BEGIN:VCALENDAR
VERSION:2.0
PRODID:-//hacksw/handcal//NONSGML v1.0//EN
CALSCALE:GREGORIAN
BEGIN:VTIMEZONE
TZID:Europe/Berlin
X-LIC-LOCATION:Europe/Berlin
BEGIN:DAYLIGHT
TZOFFSETFROM:+0100
TZOFFSETTO:+0200
TZNAME:CEST
DTSTART:19700329T020000
RRULE:FREQ=YEARLY;BYDAY=-1SU;BYMONTH=3
END:DAYLIGHT
BEGIN:STANDARD
TZOFFSETFROM:+0200
TZOFFSETTO:+0100
TZNAME:CET
DTSTART:19701025T030000
RRULE:FREQ=YEARLY;BYDAY=-1SU;BYMONTH=10
END:STANDARD
END:VTIMEZONE
BEGIN:VEVENT
DTEND;TZID=Europe/Berlin:20260617T180000
UID:69ea65dd1ee58
DTSTAMP:20260423T203301
LOCATION:Amreis Atelier
DESCRIPTION:Im SommerKreativLabor 2026 entdecken Kinder von 6 bis 8 Jahren spielerisch die Welt der Farben\, Formen und Materialien. In einer kreativen Workshop-Reihe wird gemalt\, experimentiert\, gestaltet und geforscht – mit Naturfarben\, Sand\, Wachs und nachhaltigen Materialien. Den Abschluss bildet eine gemeinsame Präsentation bei einer Gartenparty mit offener Mitmachstation. Das Projekt verbindet Kunst\, Natur und Kreativität und lädt Kinder ein\, Neues auszuprobieren und eigene Ideen umzusetzen.
URL;VALUE=URI:https://www.unser-ferienprogramm.de/gescher/veranstaltung.php?id=301503
SUMMARY:SommerKreativLabor 2026
DTSTART;TZID=Europe/Berlin:20260617T160000
END:VEVENT


BEGIN:VEVENT
DTEND;TZID=Europe/Berlin:20260624T180000
UID:69ea65dd1ee6e1
DTSTAMP:20260423T203301
LOCATION:Amreis Atelier
DESCRIPTION:Im SommerKreativLabor 2026 entdecken Kinder von 6 bis 8 Jahren spielerisch die Welt der Farben\, Formen und Materialien. In einer kreativen Workshop-Reihe wird gemalt\, experimentiert\, gestaltet und geforscht – mit Naturfarben\, Sand\, Wachs und nachhaltigen Materialien. Den Abschluss bildet eine gemeinsame Präsentation bei einer Gartenparty mit offener Mitmachstation. Das Projekt verbindet Kunst\, Natur und Kreativität und lädt Kinder ein\, Neues auszuprobieren und eigene Ideen umzusetzen.
URL;VALUE=URI:https://www.unser-ferienprogramm.de/gescher/veranstaltung.php?id=301503
SUMMARY:SommerKreativLabor 2026
DTSTART;TZID=Europe/Berlin:20260624T160000
END:VEVENT


BEGIN:VEVENT
DTEND;TZID=Europe/Berlin:20260701T180000
UID:69ea65dd1ee7b2
DTSTAMP:20260423T203301
LOCATION:Amreis Atelier
DESCRIPTION:Im SommerKreativLabor 2026 entdecken Kinder von 6 bis 8 Jahren spielerisch die Welt der Farben\, Formen und Materialien. In einer kreativen Workshop-Reihe wird gemalt\, experimentiert\, gestaltet und geforscht – mit Naturfarben\, Sand\, Wachs und nachhaltigen Materialien. Den Abschluss bildet eine gemeinsame Präsentation bei einer Gartenparty mit offener Mitmachstation. Das Projekt verbindet Kunst\, Natur und Kreativität und lädt Kinder ein\, Neues auszuprobieren und eigene Ideen umzusetzen.
URL;VALUE=URI:https://www.unser-ferienprogramm.de/gescher/veranstaltung.php?id=301503
SUMMARY:SommerKreativLabor 2026
DTSTART;TZID=Europe/Berlin:20260701T160000
END:VEVENT


BEGIN:VEVENT
DTEND;TZID=Europe/Berlin:20260708T180000
UID:69ea65dd1ee853
DTSTAMP:20260423T203301
LOCATION:Amreis Atelier
DESCRIPTION:Im SommerKreativLabor 2026 entdecken Kinder von 6 bis 8 Jahren spielerisch die Welt der Farben\, Formen und Materialien. In einer kreativen Workshop-Reihe wird gemalt\, experimentiert\, gestaltet und geforscht – mit Naturfarben\, Sand\, Wachs und nachhaltigen Materialien. Den Abschluss bildet eine gemeinsame Präsentation bei einer Gartenparty mit offener Mitmachstation. Das Projekt verbindet Kunst\, Natur und Kreativität und lädt Kinder ein\, Neues auszuprobieren und eigene Ideen umzusetzen.
URL;VALUE=URI:https://www.unser-ferienprogramm.de/gescher/veranstaltung.php?id=301503
SUMMARY:SommerKreativLabor 2026
DTSTART;TZID=Europe/Berlin:20260708T160000
END:VEVENT


BEGIN:VEVENT
DTEND;TZID=Europe/Berlin:20260710T180000
UID:69ea65dd1ee8f4
DTSTAMP:20260423T203301
LOCATION:Amreis Atelier
DESCRIPTION:Im SommerKreativLabor 2026 entdecken Kinder von 6 bis 8 Jahren spielerisch die Welt der Farben\, Formen und Materialien. In einer kreativen Workshop-Reihe wird gemalt\, experimentiert\, gestaltet und geforscht – mit Naturfarben\, Sand\, Wachs und nachhaltigen Materialien. Den Abschluss bildet eine gemeinsame Präsentation bei einer Gartenparty mit offener Mitmachstation. Das Projekt verbindet Kunst\, Natur und Kreativität und lädt Kinder ein\, Neues auszuprobieren und eigene Ideen umzusetzen.
URL;VALUE=URI:https://www.unser-ferienprogramm.de/gescher/veranstaltung.php?id=301503
SUMMARY:SommerKreativLabor 2026
DTSTART;TZID=Europe/Berlin:20260710T160000
END:VEVENT

END:VCALENDAR
