BEGIN:VCALENDAR
VERSION:2.0
PRODID:-//hacksw/handcal//NONSGML v1.0//EN
CALSCALE:GREGORIAN
BEGIN:VTIMEZONE
TZID:Europe/Berlin
X-LIC-LOCATION:Europe/Berlin
BEGIN:DAYLIGHT
TZOFFSETFROM:+0100
TZOFFSETTO:+0200
TZNAME:CEST
DTSTART:19700329T020000
RRULE:FREQ=YEARLY;BYDAY=-1SU;BYMONTH=3
END:DAYLIGHT
BEGIN:STANDARD
TZOFFSETFROM:+0200
TZOFFSETTO:+0100
TZNAME:CET
DTSTART:19701025T030000
RRULE:FREQ=YEARLY;BYDAY=-1SU;BYMONTH=10
END:STANDARD
END:VTIMEZONE
BEGIN:VEVENT
DTEND;TZID=Europe/Berlin:20260328T130000
UID:69ea66d7ae09f
DTSTAMP:20260423T203711
LOCATION:Kinder- und Jugendtreff "JuCa"
DESCRIPTION:An fünf unterschiedlichen Terminen gehen wir mit Euch auf Entdeckungsreise durch die Natur. Wir besuchen einen nachhaltigen Bauernhof\, erleben und gestalten den Gemeinschaftsgarten im JUCA\, beschäftigen uns mit Bienen\, Honig und Bienenwachs und entdecken\, wie Gemüse im Bio-Anbau wächst. Ihr dürft schauen\, anfassen\, ausprobieren\, Ideen umsetzen und Fragen stellen. Zum Abschluss wird gemeinsam gekocht\, mit dem\, was wir kennengelernt haben.
URL;VALUE=URI:https://www.unser-ferienprogramm.de/gescher/veranstaltung.php?id=301047
SUMMARY:Next Generation Green - Natur erleben. Natur feiern. Natur lieben.
DTSTART;TZID=Europe/Berlin:20260328T090000
END:VEVENT


BEGIN:VEVENT
DTEND;TZID=Europe/Berlin:20260404T130000
UID:69ea66d7ae0b71
DTSTAMP:20260423T203711
LOCATION:Kinder- und Jugendtreff "JuCa"
DESCRIPTION:An fünf unterschiedlichen Terminen gehen wir mit Euch auf Entdeckungsreise durch die Natur. Wir besuchen einen nachhaltigen Bauernhof\, erleben und gestalten den Gemeinschaftsgarten im JUCA\, beschäftigen uns mit Bienen\, Honig und Bienenwachs und entdecken\, wie Gemüse im Bio-Anbau wächst. Ihr dürft schauen\, anfassen\, ausprobieren\, Ideen umsetzen und Fragen stellen. Zum Abschluss wird gemeinsam gekocht\, mit dem\, was wir kennengelernt haben.
URL;VALUE=URI:https://www.unser-ferienprogramm.de/gescher/veranstaltung.php?id=301047
SUMMARY:Next Generation Green - Natur erleben. Natur feiern. Natur lieben.
DTSTART;TZID=Europe/Berlin:20260404T090000
END:VEVENT


BEGIN:VEVENT
DTEND;TZID=Europe/Berlin:20260418T130000
UID:69ea66d7ae0c52
DTSTAMP:20260423T203711
LOCATION:Kinder- und Jugendtreff "JuCa"
DESCRIPTION:An fünf unterschiedlichen Terminen gehen wir mit Euch auf Entdeckungsreise durch die Natur. Wir besuchen einen nachhaltigen Bauernhof\, erleben und gestalten den Gemeinschaftsgarten im JUCA\, beschäftigen uns mit Bienen\, Honig und Bienenwachs und entdecken\, wie Gemüse im Bio-Anbau wächst. Ihr dürft schauen\, anfassen\, ausprobieren\, Ideen umsetzen und Fragen stellen. Zum Abschluss wird gemeinsam gekocht\, mit dem\, was wir kennengelernt haben.
URL;VALUE=URI:https://www.unser-ferienprogramm.de/gescher/veranstaltung.php?id=301047
SUMMARY:Next Generation Green - Natur erleben. Natur feiern. Natur lieben.
DTSTART;TZID=Europe/Berlin:20260418T090000
END:VEVENT


BEGIN:VEVENT
DTEND;TZID=Europe/Berlin:20260425T130000
UID:69ea66d7ae0d03
DTSTAMP:20260423T203711
LOCATION:Kinder- und Jugendtreff "JuCa"
DESCRIPTION:An fünf unterschiedlichen Terminen gehen wir mit Euch auf Entdeckungsreise durch die Natur. Wir besuchen einen nachhaltigen Bauernhof\, erleben und gestalten den Gemeinschaftsgarten im JUCA\, beschäftigen uns mit Bienen\, Honig und Bienenwachs und entdecken\, wie Gemüse im Bio-Anbau wächst. Ihr dürft schauen\, anfassen\, ausprobieren\, Ideen umsetzen und Fragen stellen. Zum Abschluss wird gemeinsam gekocht\, mit dem\, was wir kennengelernt haben.
URL;VALUE=URI:https://www.unser-ferienprogramm.de/gescher/veranstaltung.php?id=301047
SUMMARY:Next Generation Green - Natur erleben. Natur feiern. Natur lieben.
DTSTART;TZID=Europe/Berlin:20260425T090000
END:VEVENT


BEGIN:VEVENT
DTEND;TZID=Europe/Berlin:20260509T130000
UID:69ea66d7ae0da4
DTSTAMP:20260423T203711
LOCATION:Kinder- und Jugendtreff "JuCa"
DESCRIPTION:An fünf unterschiedlichen Terminen gehen wir mit Euch auf Entdeckungsreise durch die Natur. Wir besuchen einen nachhaltigen Bauernhof\, erleben und gestalten den Gemeinschaftsgarten im JUCA\, beschäftigen uns mit Bienen\, Honig und Bienenwachs und entdecken\, wie Gemüse im Bio-Anbau wächst. Ihr dürft schauen\, anfassen\, ausprobieren\, Ideen umsetzen und Fragen stellen. Zum Abschluss wird gemeinsam gekocht\, mit dem\, was wir kennengelernt haben.
URL;VALUE=URI:https://www.unser-ferienprogramm.de/gescher/veranstaltung.php?id=301047
SUMMARY:Next Generation Green - Natur erleben. Natur feiern. Natur lieben.
DTSTART;TZID=Europe/Berlin:20260509T090000
END:VEVENT

END:VCALENDAR
