BEGIN:VCALENDAR
VERSION:2.0
PRODID:-//hacksw/handcal//NONSGML v1.0//EN
CALSCALE:GREGORIAN
BEGIN:VTIMEZONE
TZID:Europe/Berlin
X-LIC-LOCATION:Europe/Berlin
BEGIN:DAYLIGHT
TZOFFSETFROM:+0100
TZOFFSETTO:+0200
TZNAME:CEST
DTSTART:19700329T020000
RRULE:FREQ=YEARLY;BYDAY=-1SU;BYMONTH=3
END:DAYLIGHT
BEGIN:STANDARD
TZOFFSETFROM:+0200
TZOFFSETTO:+0100
TZNAME:CET
DTSTART:19701025T030000
RRULE:FREQ=YEARLY;BYDAY=-1SU;BYMONTH=10
END:STANDARD
END:VTIMEZONE
BEGIN:VEVENT
DTEND;TZID=Europe/Berlin:20260416T180000
UID:69ea65d757c57
DTSTAMP:20260423T203255
LOCATION:Kinder- und Jugendtreff "JuCa"
DESCRIPTION:Spiel\, Spaß und Konzentration – beim Bogenschießen entdecken Kinder auf sichere und altersgerechte Weise die Faszination von Pfeil und Bogen. Unter fachkundiger Anleitung lernen sie die Grundlagen des Bogenschießens\, üben Haltung\, Zielgenauigkeit und einen verantwortungsvollen Umgang mit der Ausrüstung.\r\n\r\nIm Mittelpunkt stehen Bewegung\, Teamgeist und Erfolgserlebnisse. Durch abwechslungsreiche Übungen und kleine Spiele wird die Konzentration gefördert und das Selbstvertrauen gestärkt – ganz ohne Leistungsdruck.\r\nEin spannendes Erlebnis für alle\, die etwas Neues ausprobieren und ihre Treffsicherheit entdecken möchten!
URL;VALUE=URI:https://www.unser-ferienprogramm.de/gescher/veranstaltung.php?id=300559
SUMMARY:Bogenschießen erleben –  voller Spaß & Action!
DTSTART;TZID=Europe/Berlin:20260416T160000
END:VEVENT


BEGIN:VEVENT
DTEND;TZID=Europe/Berlin:20260430T180000
UID:69ea65d757c6f1
DTSTAMP:20260423T203255
LOCATION:Kinder- und Jugendtreff "JuCa"
DESCRIPTION:Spiel\, Spaß und Konzentration – beim Bogenschießen entdecken Kinder auf sichere und altersgerechte Weise die Faszination von Pfeil und Bogen. Unter fachkundiger Anleitung lernen sie die Grundlagen des Bogenschießens\, üben Haltung\, Zielgenauigkeit und einen verantwortungsvollen Umgang mit der Ausrüstung.\r\n\r\nIm Mittelpunkt stehen Bewegung\, Teamgeist und Erfolgserlebnisse. Durch abwechslungsreiche Übungen und kleine Spiele wird die Konzentration gefördert und das Selbstvertrauen gestärkt – ganz ohne Leistungsdruck.\r\nEin spannendes Erlebnis für alle\, die etwas Neues ausprobieren und ihre Treffsicherheit entdecken möchten!
URL;VALUE=URI:https://www.unser-ferienprogramm.de/gescher/veranstaltung.php?id=300559
SUMMARY:Bogenschießen erleben –  voller Spaß & Action!
DTSTART;TZID=Europe/Berlin:20260430T160000
END:VEVENT


BEGIN:VEVENT
DTEND;TZID=Europe/Berlin:20260507T180000
UID:69ea65d757c7c2
DTSTAMP:20260423T203255
LOCATION:Kinder- und Jugendtreff "JuCa"
DESCRIPTION:Spiel\, Spaß und Konzentration – beim Bogenschießen entdecken Kinder auf sichere und altersgerechte Weise die Faszination von Pfeil und Bogen. Unter fachkundiger Anleitung lernen sie die Grundlagen des Bogenschießens\, üben Haltung\, Zielgenauigkeit und einen verantwortungsvollen Umgang mit der Ausrüstung.\r\n\r\nIm Mittelpunkt stehen Bewegung\, Teamgeist und Erfolgserlebnisse. Durch abwechslungsreiche Übungen und kleine Spiele wird die Konzentration gefördert und das Selbstvertrauen gestärkt – ganz ohne Leistungsdruck.\r\nEin spannendes Erlebnis für alle\, die etwas Neues ausprobieren und ihre Treffsicherheit entdecken möchten!
URL;VALUE=URI:https://www.unser-ferienprogramm.de/gescher/veranstaltung.php?id=300559
SUMMARY:Bogenschießen erleben –  voller Spaß & Action!
DTSTART;TZID=Europe/Berlin:20260507T160000
END:VEVENT

END:VCALENDAR
