BEGIN:VCALENDAR
VERSION:2.0
PRODID:-//hacksw/handcal//NONSGML v1.0//EN
CALSCALE:GREGORIAN
BEGIN:VTIMEZONE
TZID:Europe/Berlin
X-LIC-LOCATION:Europe/Berlin
BEGIN:DAYLIGHT
TZOFFSETFROM:+0100
TZOFFSETTO:+0200
TZNAME:CEST
DTSTART:19700329T020000
RRULE:FREQ=YEARLY;BYDAY=-1SU;BYMONTH=3
END:DAYLIGHT
BEGIN:STANDARD
TZOFFSETFROM:+0200
TZOFFSETTO:+0100
TZNAME:CET
DTSTART:19701025T030000
RRULE:FREQ=YEARLY;BYDAY=-1SU;BYMONTH=10
END:STANDARD
END:VTIMEZONE
BEGIN:VEVENT
DTEND;TZID=Europe/Berlin:20260413T163000
UID:69ea674273235
DTSTAMP:20260423T203858
LOCATION:Kinder- und Jugendtreff "JuCa"
DESCRIPTION:In unserer Garten AG entdecken Kinder spielerisch die Natur! Gemeinsam säen\, pflanzen und pflegen wir Blumen\, Gemüse und Kräuter. Außerdem bauen wir ein kleines Gewächshaus oder richten ein Hochbeet ein so lernen die Kinder\, wie Pflanzen optimal wachsen.\r\n\r\nNeben der Gartenarbeit gibt es tolle Bastelaktionen\, bei denen wir mit Naturmaterialien kreativ werden. Wir basteln z. B. bunte Blumentöpfe oder Windspiele für den Garten. Nach getaner Arbeit genießen wir gemütliche Momente an unserer Feuerschale\, backen Stockbrot und probieren einfache Rezepte mit frischen Zutaten aus dem Garten.\r\n\r\nZum Abschluss am 10.07.2026  feiern wir eine kleine Garten-Party! Mit selbstgemachten Leckereien\, Spielen und fröhlichem Beisammensein genießen wir die Ernte unserer Arbeit.\r\n\r\nOb buddeln\, bauen\, basteln oder feiern hier gibt es jede Menge zu erleben! 
URL;VALUE=URI:https://www.unser-ferienprogramm.de/gescher/veranstaltung.php?id=300543
SUMMARY:Garten-AG für Kinder – Pflanzen\, Bauen & Feiern! 
DTSTART;TZID=Europe/Berlin:20260413T143000
END:VEVENT


BEGIN:VEVENT
DTEND;TZID=Europe/Berlin:20260420T163000
UID:69ea6742732521
DTSTAMP:20260423T203858
LOCATION:Kinder- und Jugendtreff "JuCa"
DESCRIPTION:In unserer Garten AG entdecken Kinder spielerisch die Natur! Gemeinsam säen\, pflanzen und pflegen wir Blumen\, Gemüse und Kräuter. Außerdem bauen wir ein kleines Gewächshaus oder richten ein Hochbeet ein so lernen die Kinder\, wie Pflanzen optimal wachsen.\r\n\r\nNeben der Gartenarbeit gibt es tolle Bastelaktionen\, bei denen wir mit Naturmaterialien kreativ werden. Wir basteln z. B. bunte Blumentöpfe oder Windspiele für den Garten. Nach getaner Arbeit genießen wir gemütliche Momente an unserer Feuerschale\, backen Stockbrot und probieren einfache Rezepte mit frischen Zutaten aus dem Garten.\r\n\r\nZum Abschluss am 10.07.2026  feiern wir eine kleine Garten-Party! Mit selbstgemachten Leckereien\, Spielen und fröhlichem Beisammensein genießen wir die Ernte unserer Arbeit.\r\n\r\nOb buddeln\, bauen\, basteln oder feiern hier gibt es jede Menge zu erleben! 
URL;VALUE=URI:https://www.unser-ferienprogramm.de/gescher/veranstaltung.php?id=300543
SUMMARY:Garten-AG für Kinder – Pflanzen\, Bauen & Feiern! 
DTSTART;TZID=Europe/Berlin:20260420T143000
END:VEVENT


BEGIN:VEVENT
DTEND;TZID=Europe/Berlin:20260427T163000
UID:69ea6742732642
DTSTAMP:20260423T203858
LOCATION:Kinder- und Jugendtreff "JuCa"
DESCRIPTION:In unserer Garten AG entdecken Kinder spielerisch die Natur! Gemeinsam säen\, pflanzen und pflegen wir Blumen\, Gemüse und Kräuter. Außerdem bauen wir ein kleines Gewächshaus oder richten ein Hochbeet ein so lernen die Kinder\, wie Pflanzen optimal wachsen.\r\n\r\nNeben der Gartenarbeit gibt es tolle Bastelaktionen\, bei denen wir mit Naturmaterialien kreativ werden. Wir basteln z. B. bunte Blumentöpfe oder Windspiele für den Garten. Nach getaner Arbeit genießen wir gemütliche Momente an unserer Feuerschale\, backen Stockbrot und probieren einfache Rezepte mit frischen Zutaten aus dem Garten.\r\n\r\nZum Abschluss am 10.07.2026  feiern wir eine kleine Garten-Party! Mit selbstgemachten Leckereien\, Spielen und fröhlichem Beisammensein genießen wir die Ernte unserer Arbeit.\r\n\r\nOb buddeln\, bauen\, basteln oder feiern hier gibt es jede Menge zu erleben! 
URL;VALUE=URI:https://www.unser-ferienprogramm.de/gescher/veranstaltung.php?id=300543
SUMMARY:Garten-AG für Kinder – Pflanzen\, Bauen & Feiern! 
DTSTART;TZID=Europe/Berlin:20260427T143000
END:VEVENT


BEGIN:VEVENT
DTEND;TZID=Europe/Berlin:20260511T163000
UID:69ea6742732723
DTSTAMP:20260423T203858
LOCATION:Kinder- und Jugendtreff "JuCa"
DESCRIPTION:In unserer Garten AG entdecken Kinder spielerisch die Natur! Gemeinsam säen\, pflanzen und pflegen wir Blumen\, Gemüse und Kräuter. Außerdem bauen wir ein kleines Gewächshaus oder richten ein Hochbeet ein so lernen die Kinder\, wie Pflanzen optimal wachsen.\r\n\r\nNeben der Gartenarbeit gibt es tolle Bastelaktionen\, bei denen wir mit Naturmaterialien kreativ werden. Wir basteln z. B. bunte Blumentöpfe oder Windspiele für den Garten. Nach getaner Arbeit genießen wir gemütliche Momente an unserer Feuerschale\, backen Stockbrot und probieren einfache Rezepte mit frischen Zutaten aus dem Garten.\r\n\r\nZum Abschluss am 10.07.2026  feiern wir eine kleine Garten-Party! Mit selbstgemachten Leckereien\, Spielen und fröhlichem Beisammensein genießen wir die Ernte unserer Arbeit.\r\n\r\nOb buddeln\, bauen\, basteln oder feiern hier gibt es jede Menge zu erleben! 
URL;VALUE=URI:https://www.unser-ferienprogramm.de/gescher/veranstaltung.php?id=300543
SUMMARY:Garten-AG für Kinder – Pflanzen\, Bauen & Feiern! 
DTSTART;TZID=Europe/Berlin:20260511T143000
END:VEVENT


BEGIN:VEVENT
DTEND;TZID=Europe/Berlin:20260601T163000
UID:69ea67427327f4
DTSTAMP:20260423T203858
LOCATION:Kinder- und Jugendtreff "JuCa"
DESCRIPTION:In unserer Garten AG entdecken Kinder spielerisch die Natur! Gemeinsam säen\, pflanzen und pflegen wir Blumen\, Gemüse und Kräuter. Außerdem bauen wir ein kleines Gewächshaus oder richten ein Hochbeet ein so lernen die Kinder\, wie Pflanzen optimal wachsen.\r\n\r\nNeben der Gartenarbeit gibt es tolle Bastelaktionen\, bei denen wir mit Naturmaterialien kreativ werden. Wir basteln z. B. bunte Blumentöpfe oder Windspiele für den Garten. Nach getaner Arbeit genießen wir gemütliche Momente an unserer Feuerschale\, backen Stockbrot und probieren einfache Rezepte mit frischen Zutaten aus dem Garten.\r\n\r\nZum Abschluss am 10.07.2026  feiern wir eine kleine Garten-Party! Mit selbstgemachten Leckereien\, Spielen und fröhlichem Beisammensein genießen wir die Ernte unserer Arbeit.\r\n\r\nOb buddeln\, bauen\, basteln oder feiern hier gibt es jede Menge zu erleben! 
URL;VALUE=URI:https://www.unser-ferienprogramm.de/gescher/veranstaltung.php?id=300543
SUMMARY:Garten-AG für Kinder – Pflanzen\, Bauen & Feiern! 
DTSTART;TZID=Europe/Berlin:20260601T143000
END:VEVENT


BEGIN:VEVENT
DTEND;TZID=Europe/Berlin:20260608T163000
UID:69ea67427328b5
DTSTAMP:20260423T203858
LOCATION:Kinder- und Jugendtreff "JuCa"
DESCRIPTION:In unserer Garten AG entdecken Kinder spielerisch die Natur! Gemeinsam säen\, pflanzen und pflegen wir Blumen\, Gemüse und Kräuter. Außerdem bauen wir ein kleines Gewächshaus oder richten ein Hochbeet ein so lernen die Kinder\, wie Pflanzen optimal wachsen.\r\n\r\nNeben der Gartenarbeit gibt es tolle Bastelaktionen\, bei denen wir mit Naturmaterialien kreativ werden. Wir basteln z. B. bunte Blumentöpfe oder Windspiele für den Garten. Nach getaner Arbeit genießen wir gemütliche Momente an unserer Feuerschale\, backen Stockbrot und probieren einfache Rezepte mit frischen Zutaten aus dem Garten.\r\n\r\nZum Abschluss am 10.07.2026  feiern wir eine kleine Garten-Party! Mit selbstgemachten Leckereien\, Spielen und fröhlichem Beisammensein genießen wir die Ernte unserer Arbeit.\r\n\r\nOb buddeln\, bauen\, basteln oder feiern hier gibt es jede Menge zu erleben! 
URL;VALUE=URI:https://www.unser-ferienprogramm.de/gescher/veranstaltung.php?id=300543
SUMMARY:Garten-AG für Kinder – Pflanzen\, Bauen & Feiern! 
DTSTART;TZID=Europe/Berlin:20260608T143000
END:VEVENT


BEGIN:VEVENT
DTEND;TZID=Europe/Berlin:20260615T163000
UID:69ea6742732986
DTSTAMP:20260423T203858
LOCATION:Kinder- und Jugendtreff "JuCa"
DESCRIPTION:In unserer Garten AG entdecken Kinder spielerisch die Natur! Gemeinsam säen\, pflanzen und pflegen wir Blumen\, Gemüse und Kräuter. Außerdem bauen wir ein kleines Gewächshaus oder richten ein Hochbeet ein so lernen die Kinder\, wie Pflanzen optimal wachsen.\r\n\r\nNeben der Gartenarbeit gibt es tolle Bastelaktionen\, bei denen wir mit Naturmaterialien kreativ werden. Wir basteln z. B. bunte Blumentöpfe oder Windspiele für den Garten. Nach getaner Arbeit genießen wir gemütliche Momente an unserer Feuerschale\, backen Stockbrot und probieren einfache Rezepte mit frischen Zutaten aus dem Garten.\r\n\r\nZum Abschluss am 10.07.2026  feiern wir eine kleine Garten-Party! Mit selbstgemachten Leckereien\, Spielen und fröhlichem Beisammensein genießen wir die Ernte unserer Arbeit.\r\n\r\nOb buddeln\, bauen\, basteln oder feiern hier gibt es jede Menge zu erleben! 
URL;VALUE=URI:https://www.unser-ferienprogramm.de/gescher/veranstaltung.php?id=300543
SUMMARY:Garten-AG für Kinder – Pflanzen\, Bauen & Feiern! 
DTSTART;TZID=Europe/Berlin:20260615T143000
END:VEVENT


BEGIN:VEVENT
DTEND;TZID=Europe/Berlin:20260622T163000
UID:69ea6742732a47
DTSTAMP:20260423T203858
LOCATION:Kinder- und Jugendtreff "JuCa"
DESCRIPTION:In unserer Garten AG entdecken Kinder spielerisch die Natur! Gemeinsam säen\, pflanzen und pflegen wir Blumen\, Gemüse und Kräuter. Außerdem bauen wir ein kleines Gewächshaus oder richten ein Hochbeet ein so lernen die Kinder\, wie Pflanzen optimal wachsen.\r\n\r\nNeben der Gartenarbeit gibt es tolle Bastelaktionen\, bei denen wir mit Naturmaterialien kreativ werden. Wir basteln z. B. bunte Blumentöpfe oder Windspiele für den Garten. Nach getaner Arbeit genießen wir gemütliche Momente an unserer Feuerschale\, backen Stockbrot und probieren einfache Rezepte mit frischen Zutaten aus dem Garten.\r\n\r\nZum Abschluss am 10.07.2026  feiern wir eine kleine Garten-Party! Mit selbstgemachten Leckereien\, Spielen und fröhlichem Beisammensein genießen wir die Ernte unserer Arbeit.\r\n\r\nOb buddeln\, bauen\, basteln oder feiern hier gibt es jede Menge zu erleben! 
URL;VALUE=URI:https://www.unser-ferienprogramm.de/gescher/veranstaltung.php?id=300543
SUMMARY:Garten-AG für Kinder – Pflanzen\, Bauen & Feiern! 
DTSTART;TZID=Europe/Berlin:20260622T143000
END:VEVENT


BEGIN:VEVENT
DTEND;TZID=Europe/Berlin:20260629T163000
UID:69ea6742732b08
DTSTAMP:20260423T203858
LOCATION:Kinder- und Jugendtreff "JuCa"
DESCRIPTION:In unserer Garten AG entdecken Kinder spielerisch die Natur! Gemeinsam säen\, pflanzen und pflegen wir Blumen\, Gemüse und Kräuter. Außerdem bauen wir ein kleines Gewächshaus oder richten ein Hochbeet ein so lernen die Kinder\, wie Pflanzen optimal wachsen.\r\n\r\nNeben der Gartenarbeit gibt es tolle Bastelaktionen\, bei denen wir mit Naturmaterialien kreativ werden. Wir basteln z. B. bunte Blumentöpfe oder Windspiele für den Garten. Nach getaner Arbeit genießen wir gemütliche Momente an unserer Feuerschale\, backen Stockbrot und probieren einfache Rezepte mit frischen Zutaten aus dem Garten.\r\n\r\nZum Abschluss am 10.07.2026  feiern wir eine kleine Garten-Party! Mit selbstgemachten Leckereien\, Spielen und fröhlichem Beisammensein genießen wir die Ernte unserer Arbeit.\r\n\r\nOb buddeln\, bauen\, basteln oder feiern hier gibt es jede Menge zu erleben! 
URL;VALUE=URI:https://www.unser-ferienprogramm.de/gescher/veranstaltung.php?id=300543
SUMMARY:Garten-AG für Kinder – Pflanzen\, Bauen & Feiern! 
DTSTART;TZID=Europe/Berlin:20260629T143000
END:VEVENT


BEGIN:VEVENT
DTEND;TZID=Europe/Berlin:20260706T163000
UID:69ea6742732bd9
DTSTAMP:20260423T203858
LOCATION:Kinder- und Jugendtreff "JuCa"
DESCRIPTION:In unserer Garten AG entdecken Kinder spielerisch die Natur! Gemeinsam säen\, pflanzen und pflegen wir Blumen\, Gemüse und Kräuter. Außerdem bauen wir ein kleines Gewächshaus oder richten ein Hochbeet ein so lernen die Kinder\, wie Pflanzen optimal wachsen.\r\n\r\nNeben der Gartenarbeit gibt es tolle Bastelaktionen\, bei denen wir mit Naturmaterialien kreativ werden. Wir basteln z. B. bunte Blumentöpfe oder Windspiele für den Garten. Nach getaner Arbeit genießen wir gemütliche Momente an unserer Feuerschale\, backen Stockbrot und probieren einfache Rezepte mit frischen Zutaten aus dem Garten.\r\n\r\nZum Abschluss am 10.07.2026  feiern wir eine kleine Garten-Party! Mit selbstgemachten Leckereien\, Spielen und fröhlichem Beisammensein genießen wir die Ernte unserer Arbeit.\r\n\r\nOb buddeln\, bauen\, basteln oder feiern hier gibt es jede Menge zu erleben! 
URL;VALUE=URI:https://www.unser-ferienprogramm.de/gescher/veranstaltung.php?id=300543
SUMMARY:Garten-AG für Kinder – Pflanzen\, Bauen & Feiern! 
DTSTART;TZID=Europe/Berlin:20260706T143000
END:VEVENT


BEGIN:VEVENT
DTEND;TZID=Europe/Berlin:20260710T183000
UID:69ea6742732ca10
DTSTAMP:20260423T203858
LOCATION:Kinder- und Jugendtreff "JuCa"
DESCRIPTION:In unserer Garten AG entdecken Kinder spielerisch die Natur! Gemeinsam säen\, pflanzen und pflegen wir Blumen\, Gemüse und Kräuter. Außerdem bauen wir ein kleines Gewächshaus oder richten ein Hochbeet ein so lernen die Kinder\, wie Pflanzen optimal wachsen.\r\n\r\nNeben der Gartenarbeit gibt es tolle Bastelaktionen\, bei denen wir mit Naturmaterialien kreativ werden. Wir basteln z. B. bunte Blumentöpfe oder Windspiele für den Garten. Nach getaner Arbeit genießen wir gemütliche Momente an unserer Feuerschale\, backen Stockbrot und probieren einfache Rezepte mit frischen Zutaten aus dem Garten.\r\n\r\nZum Abschluss am 10.07.2026  feiern wir eine kleine Garten-Party! Mit selbstgemachten Leckereien\, Spielen und fröhlichem Beisammensein genießen wir die Ernte unserer Arbeit.\r\n\r\nOb buddeln\, bauen\, basteln oder feiern hier gibt es jede Menge zu erleben! 
URL;VALUE=URI:https://www.unser-ferienprogramm.de/gescher/veranstaltung.php?id=300543
SUMMARY:Garten-AG für Kinder – Pflanzen\, Bauen & Feiern! 
DTSTART;TZID=Europe/Berlin:20260710T160000
END:VEVENT

END:VCALENDAR
