BEGIN:VCALENDAR
VERSION:2.0
PRODID:-//hacksw/handcal//NONSGML v1.0//EN
CALSCALE:GREGORIAN
BEGIN:VTIMEZONE
TZID:Europe/Berlin
X-LIC-LOCATION:Europe/Berlin
BEGIN:DAYLIGHT
TZOFFSETFROM:+0100
TZOFFSETTO:+0200
TZNAME:CEST
DTSTART:19700329T020000
RRULE:FREQ=YEARLY;BYDAY=-1SU;BYMONTH=3
END:DAYLIGHT
BEGIN:STANDARD
TZOFFSETFROM:+0200
TZOFFSETTO:+0100
TZNAME:CET
DTSTART:19701025T030000
RRULE:FREQ=YEARLY;BYDAY=-1SU;BYMONTH=10
END:STANDARD
END:VTIMEZONE
BEGIN:VEVENT
DTEND;TZID=Europe/Berlin:20260616T180000
UID:69ea65cc5e0aa
DTSTAMP:20260423T203244
LOCATION:Jugendhaus Chillout
DESCRIPTION:Erst Leinwand selbst bauen\, dann Farbe draufballern! Beim Actionpainting geht’s um Moves\, Beats und fette Farbspuren. Klecksen\, spritzen\, werfen – alles erlaubt.\r\nKein Plan? Perfekt. Mach Kunst auf deine Art.\r\n
URL;VALUE=URI:https://www.unser-ferienprogramm.de/gescher/veranstaltung.php?id=299956
SUMMARY:Actionpainting - Bau deine Leinwand. Drop die Farbe.
DTSTART;TZID=Europe/Berlin:20260616T153000
END:VEVENT


BEGIN:VEVENT
DTEND;TZID=Europe/Berlin:20260619T190000
UID:69ea65cc5e0c11
DTSTAMP:20260423T203244
LOCATION:Jugendhaus Chillout
DESCRIPTION:Erst Leinwand selbst bauen\, dann Farbe draufballern! Beim Actionpainting geht’s um Moves\, Beats und fette Farbspuren. Klecksen\, spritzen\, werfen – alles erlaubt.\r\nKein Plan? Perfekt. Mach Kunst auf deine Art.\r\n
URL;VALUE=URI:https://www.unser-ferienprogramm.de/gescher/veranstaltung.php?id=299956
SUMMARY:Actionpainting - Bau deine Leinwand. Drop die Farbe.
DTSTART;TZID=Europe/Berlin:20260619T160000
END:VEVENT


BEGIN:VEVENT
DTEND;TZID=Europe/Berlin:20260620T180000
UID:69ea65cc5e0ce2
DTSTAMP:20260423T203244
LOCATION:Jugendhaus Chillout
DESCRIPTION:Erst Leinwand selbst bauen\, dann Farbe draufballern! Beim Actionpainting geht’s um Moves\, Beats und fette Farbspuren. Klecksen\, spritzen\, werfen – alles erlaubt.\r\nKein Plan? Perfekt. Mach Kunst auf deine Art.\r\n
URL;VALUE=URI:https://www.unser-ferienprogramm.de/gescher/veranstaltung.php?id=299956
SUMMARY:Actionpainting - Bau deine Leinwand. Drop die Farbe.
DTSTART;TZID=Europe/Berlin:20260620T150000
END:VEVENT

END:VCALENDAR
