BEGIN:VCALENDAR
VERSION:2.0
PRODID:-//hacksw/handcal//NONSGML v1.0//EN
CALSCALE:GREGORIAN
BEGIN:VTIMEZONE
TZID:Europe/Berlin
X-LIC-LOCATION:Europe/Berlin
BEGIN:DAYLIGHT
TZOFFSETFROM:+0100
TZOFFSETTO:+0200
TZNAME:CEST
DTSTART:19700329T020000
RRULE:FREQ=YEARLY;BYDAY=-1SU;BYMONTH=3
END:DAYLIGHT
BEGIN:STANDARD
TZOFFSETFROM:+0200
TZOFFSETTO:+0100
TZNAME:CET
DTSTART:19701025T030000
RRULE:FREQ=YEARLY;BYDAY=-1SU;BYMONTH=10
END:STANDARD
END:VTIMEZONE
BEGIN:VEVENT
DTEND;TZID=Europe/Berlin:20260530T150000
UID:69ea69b8df649
DTSTAMP:20260423T204928
LOCATION:Jugendhaus Chillout
DESCRIPTION:Du hörst ständig Musik und hast eigene Ideen im Kopf? Dann komm zu unserem Songwriter-Workshop! Gemeinsam schreiben wir Texte\, basteln an Melodien und machen aus deinen Gedanken echte Songs. Egal ob Rap\, Pop oder Singer-Songwriter – hier zählt deine Kreativität.\r\n\r\nVertone deine Ideen anschließend in einem mobilen Tonstudio.
URL;VALUE=URI:https://www.unser-ferienprogramm.de/gescher/veranstaltung.php?id=299950
SUMMARY:Dein Song\, deine Story\, dein Sound - Songwriter Workshop
DTSTART;TZID=Europe/Berlin:20260530T110000
END:VEVENT

END:VCALENDAR
