BEGIN:VCALENDAR
VERSION:2.0
PRODID:-//hacksw/handcal//NONSGML v1.0//EN
CALSCALE:GREGORIAN
BEGIN:VTIMEZONE
TZID:Europe/Berlin
X-LIC-LOCATION:Europe/Berlin
BEGIN:DAYLIGHT
TZOFFSETFROM:+0100
TZOFFSETTO:+0200
TZNAME:CEST
DTSTART:19700329T020000
RRULE:FREQ=YEARLY;BYDAY=-1SU;BYMONTH=3
END:DAYLIGHT
BEGIN:STANDARD
TZOFFSETFROM:+0200
TZOFFSETTO:+0100
TZNAME:CET
DTSTART:19701025T030000
RRULE:FREQ=YEARLY;BYDAY=-1SU;BYMONTH=10
END:STANDARD
END:VTIMEZONE
BEGIN:VEVENT
DTEND;TZID=Europe/Berlin:20260510T140000
UID:69ea66f0c77c1
DTSTAMP:20260423T203736
LOCATION:Gilwell Sankt Ludger Haltern am See
DESCRIPTION:Eltern-Kind-Abenteuer im Wald\r\n\r\nEine Nacht. Ein Zelt. Ein echtes Miteinander.\r\n\r\nRaus aus dem Alltag – rein ins gemeinsame Abenteuer!\r\nBei unserer Eltern-Kind-Abenteuerübernachtung im Wald erlebt ihr als Team eine besondere Zeit: zusammen ein Zelt aufbauen\, ein Feuer entzünden\, Entscheidungen treffen und eine Nacht draußen verbringen.\r\n\r\nIn einer kleinen Geschichte (Pen & Paper) schlüpft ihr gemeinsam in neue Rollen\, hört einander zu und entdeckt euch gegenseitig neu – ohne Leistungsdruck\, ohne Handy\, ohne richtig oder falsch.\r\n\r\nWas euch erwartet:\r\n\r\nNatur & Abenteuer\r\nZeit füreinander\r\nStärkung von Vertrauen\, Kommunikation und Zusammenarbeit\r\nEin spannendes Erlebnis\, angelehnt am Rollenspiel Pen & Paper\r\nEin Erlebnis\, das verbindet\r\n\r\nIn den Teilnahmegebühren sind die Zeltplatzmiete sowie sämtliche Nahrungsmittel und Materialien inbegriffen. Sanitäranlagen mit Duschen sind vorhanden.
URL;VALUE=URI:https://www.unser-ferienprogramm.de/gescher/veranstaltung.php?id=299664
SUMMARY:Eine Nacht\, ein Zelt\, ein echtes Abenteuer "Das Feuer zwischen uns" - Pen & Paper live
DTSTART;TZID=Europe/Berlin:20260509T120000
END:VEVENT

END:VCALENDAR
