BEGIN:VCALENDAR
VERSION:2.0
PRODID:-//hacksw/handcal//NONSGML v1.0//EN
CALSCALE:GREGORIAN
BEGIN:VTIMEZONE
TZID:Europe/Berlin
X-LIC-LOCATION:Europe/Berlin
BEGIN:DAYLIGHT
TZOFFSETFROM:+0100
TZOFFSETTO:+0200
TZNAME:CEST
DTSTART:19700329T020000
RRULE:FREQ=YEARLY;BYDAY=-1SU;BYMONTH=3
END:DAYLIGHT
BEGIN:STANDARD
TZOFFSETFROM:+0200
TZOFFSETTO:+0100
TZNAME:CET
DTSTART:19701025T030000
RRULE:FREQ=YEARLY;BYDAY=-1SU;BYMONTH=10
END:STANDARD
END:VTIMEZONE
BEGIN:VEVENT
DTEND;TZID=Europe/Berlin:20260814T000000
UID:69ea65ad93aa4
DTSTAMP:20260423T203213
LOCATION:Engwierum
DESCRIPTION:Das Gruppenhaus Dokkumer Nieuwe Zijlen\, ein ehemaliger friesischer Bauernhof\, befindet sich im Norden der holländischen Provinz Friesland\, direkt an der Schleuse am Dokkumerdiep\, dem südwestlichen Ausläufer des Lauwersmeers\, unweit des Ortes Engwierum. Am Haus vorhanden sind ein großer Garten mit Picknicktischen\, Volleyballnetz\, Tischtennisplatte\, Feuerstelle und ein schöner Wintergarten mit Kamin und Grill. Dieser kann an heißen Tagen mit großem Türen zur Terrasse hin geöffnet werden. An der Schleuse steht eine zweite Terrasse zur Verfügung. Umgeben von Wasser und Naturgebieten sind das Haus und seine Umgebung besonders für Wassersportler und Wanderer empfehlenswert. Es gibt zwei Bademöglichkeiten in unmittelbarer Nähe des Hauses. Ihr könnt euch gerne das Haus unter folgenden Link anschauen.\r\n\r\nhttps://www.grether-reisen.de/hausbeschreibung/?hausId=53365#beschreibung\r\n\r\nIm Reisepreis von 320\,- € enthalten sind:\r\n\r\nAn- und Abreise in von Ford Bessler und Terhardt gemiteten Bullis\r\nÜbernachtungskosten\r\nKosten für Strom\, Gas und Wasser\r\nKurtaxe\r\nPicknickausflug mit dem Fahrrad\r\nBesuch des Subtropischen Schwimmbades \r\nBesuch des Freizeitparks Duinzenzathe\r\nVollpension\r\n\r\nDer volle Reisepreis bis 31.05.2025 zu zahlen.\r\n\r\nBesitzer der Münsterlandkarte können gerne mit mir Kontakt aufnehmen um Teilzahlungen über die Münsterlandkarte zu vereinbaren.\r\n\r\n\r\n
URL;VALUE=URI:https://www.unser-ferienprogramm.de/gescher/veranstaltung.php?id=299187
SUMMARY:Kinder- und Jugendreise nach Engwierum/Niederlande
DTSTART;TZID=Europe/Berlin:20260807T000000
END:VEVENT

END:VCALENDAR
