BEGIN:VCALENDAR
VERSION:2.0
PRODID:-//hacksw/handcal//NONSGML v1.0//EN
CALSCALE:GREGORIAN
BEGIN:VTIMEZONE
TZID:Europe/Berlin
X-LIC-LOCATION:Europe/Berlin
BEGIN:DAYLIGHT
TZOFFSETFROM:+0100
TZOFFSETTO:+0200
TZNAME:CEST
DTSTART:19700329T020000
RRULE:FREQ=YEARLY;BYDAY=-1SU;BYMONTH=3
END:DAYLIGHT
BEGIN:STANDARD
TZOFFSETFROM:+0200
TZOFFSETTO:+0100
TZNAME:CET
DTSTART:19701025T030000
RRULE:FREQ=YEARLY;BYDAY=-1SU;BYMONTH=10
END:STANDARD
END:VTIMEZONE
BEGIN:VEVENT
DTEND;TZID=Europe/Berlin:20260731T123000
UID:69ea6576518ff
DTSTAMP:20260423T203118
LOCATION:
DESCRIPTION:Komm mit uns auf ein spannendes Abenteuer!\r\nZusammen mit Robin Hood und seinen Freunden erlebst du fünf tolle Tage voller Spiel\, Spaß und Natur. Wir verwandeln in Robin Hood\, basteln mit Sachen aus dem Wald\, üben Bogenschießen und spielen aufregende Teamspiele.\r\n\r\nJeden Tag wartet ein neues Abenteuer auf dich – und am letzten Tag feiern wir ein großes Gartenfest mit Lagerfeuer\, Stockbrot und Urkunden!
URL;VALUE=URI:https://www.unser-ferienprogramm.de/gescher/veranstaltung.php?id=294797
SUMMARY:Auf den Spuren von Robin Hood
DTSTART;TZID=Europe/Berlin:20260727T080000
END:VEVENT

END:VCALENDAR
