BEGIN:VCALENDAR
VERSION:2.0
PRODID:-//hacksw/handcal//NONSGML v1.0//EN
CALSCALE:GREGORIAN
BEGIN:VTIMEZONE
TZID:Europe/Berlin
X-LIC-LOCATION:Europe/Berlin
BEGIN:DAYLIGHT
TZOFFSETFROM:+0100
TZOFFSETTO:+0200
TZNAME:CEST
DTSTART:19700329T020000
RRULE:FREQ=YEARLY;BYDAY=-1SU;BYMONTH=3
END:DAYLIGHT
BEGIN:STANDARD
TZOFFSETFROM:+0200
TZOFFSETTO:+0100
TZNAME:CET
DTSTART:19701025T030000
RRULE:FREQ=YEARLY;BYDAY=-1SU;BYMONTH=10
END:STANDARD
END:VTIMEZONE
BEGIN:VEVENT
DTEND;TZID=Europe/Berlin:20250804T170000
UID:69e51d05e0431
DTSTAMP:20260419T202053
LOCATION:Wilhelmsdorf\, Freizeitgelände am Lengenweiler See
DESCRIPTION:Ein kunterbuntes Ferienprogramm in und um Wilhelmsdorf mit Geländespielen\, Wasseraktionen am Lengenweiler See\, mit verschiedenen Bastel- und Sportaktionen\, Grillen\, Dorfrally & vielem mehr.
URL;VALUE=URI:https://www.unser-ferienprogramm.de/gemeinde-wilhelmsdorf/veranstaltung.php?id=98024
SUMMARY:Sommer - Ferien - Laune
DTSTART;TZID=Europe/Berlin:20250804T090000
END:VEVENT


BEGIN:VEVENT
DTEND;TZID=Europe/Berlin:20250805T170000
UID:69e51d05e044c1
DTSTAMP:20260419T202053
LOCATION:Wilhelmsdorf\, Freizeitgelände am Lengenweiler See
DESCRIPTION:Ein kunterbuntes Ferienprogramm in und um Wilhelmsdorf mit Geländespielen\, Wasseraktionen am Lengenweiler See\, mit verschiedenen Bastel- und Sportaktionen\, Grillen\, Dorfrally & vielem mehr.
URL;VALUE=URI:https://www.unser-ferienprogramm.de/gemeinde-wilhelmsdorf/veranstaltung.php?id=98024
SUMMARY:Sommer - Ferien - Laune
DTSTART;TZID=Europe/Berlin:20250805T090000
END:VEVENT


BEGIN:VEVENT
DTEND;TZID=Europe/Berlin:20250806T170000
UID:69e51d05e04592
DTSTAMP:20260419T202053
LOCATION:Wilhelmsdorf\, Freizeitgelände am Lengenweiler See
DESCRIPTION:Ein kunterbuntes Ferienprogramm in und um Wilhelmsdorf mit Geländespielen\, Wasseraktionen am Lengenweiler See\, mit verschiedenen Bastel- und Sportaktionen\, Grillen\, Dorfrally & vielem mehr.
URL;VALUE=URI:https://www.unser-ferienprogramm.de/gemeinde-wilhelmsdorf/veranstaltung.php?id=98024
SUMMARY:Sommer - Ferien - Laune
DTSTART;TZID=Europe/Berlin:20250806T090000
END:VEVENT


BEGIN:VEVENT
DTEND;TZID=Europe/Berlin:20250807T170000
UID:69e51d05e04633
DTSTAMP:20260419T202053
LOCATION:Wilhelmsdorf\, Freizeitgelände am Lengenweiler See
DESCRIPTION:Ein kunterbuntes Ferienprogramm in und um Wilhelmsdorf mit Geländespielen\, Wasseraktionen am Lengenweiler See\, mit verschiedenen Bastel- und Sportaktionen\, Grillen\, Dorfrally & vielem mehr.
URL;VALUE=URI:https://www.unser-ferienprogramm.de/gemeinde-wilhelmsdorf/veranstaltung.php?id=98024
SUMMARY:Sommer - Ferien - Laune
DTSTART;TZID=Europe/Berlin:20250807T090000
END:VEVENT


BEGIN:VEVENT
DTEND;TZID=Europe/Berlin:20250808T170000
UID:69e51d05e046d4
DTSTAMP:20260419T202053
LOCATION:Wilhelmsdorf\, Freizeitgelände am Lengenweiler See
DESCRIPTION:Ein kunterbuntes Ferienprogramm in und um Wilhelmsdorf mit Geländespielen\, Wasseraktionen am Lengenweiler See\, mit verschiedenen Bastel- und Sportaktionen\, Grillen\, Dorfrally & vielem mehr.
URL;VALUE=URI:https://www.unser-ferienprogramm.de/gemeinde-wilhelmsdorf/veranstaltung.php?id=98024
SUMMARY:Sommer - Ferien - Laune
DTSTART;TZID=Europe/Berlin:20250808T090000
END:VEVENT

END:VCALENDAR
