BEGIN:VCALENDAR
VERSION:2.0
PRODID:-//hacksw/handcal//NONSGML v1.0//EN
CALSCALE:GREGORIAN
BEGIN:VTIMEZONE
TZID:Europe/Berlin
X-LIC-LOCATION:Europe/Berlin
BEGIN:DAYLIGHT
TZOFFSETFROM:+0100
TZOFFSETTO:+0200
TZNAME:CEST
DTSTART:19700329T020000
RRULE:FREQ=YEARLY;BYDAY=-1SU;BYMONTH=3
END:DAYLIGHT
BEGIN:STANDARD
TZOFFSETFROM:+0200
TZOFFSETTO:+0100
TZNAME:CET
DTSTART:19701025T030000
RRULE:FREQ=YEARLY;BYDAY=-1SU;BYMONTH=10
END:STANDARD
END:VTIMEZONE
BEGIN:VEVENT
DTEND;TZID=Europe/Berlin:20250806T120000
UID:69e51bf278325
DTSTAMP:20260419T201618
LOCATION:Tennisanlage Rotäcker Wilhelmsdorf nur bei gutem Wetter
DESCRIPTION:Lust auf Tennis?\r\nDu bis zwischen11 - 17 Jahren und hast Lust Tennis zu spielen oder mal auszuprobieren? Dann mach mit bei unserem Ferien-Tennis-\r\nangebot. Egal ob du Anfänger bist oder schon Bälle geschlagen hast - bei uns steht der Spaß am Spiel im Vordergrung.\r\n
URL;VALUE=URI:https://www.unser-ferienprogramm.de/gemeinde-wilhelmsdorf/veranstaltung.php?id=284294
SUMMARY: Lust auf Tennis
DTSTART;TZID=Europe/Berlin:20250806T090000
END:VEVENT

END:VCALENDAR
