BEGIN:VCALENDAR
VERSION:2.0
PRODID:-//hacksw/handcal//NONSGML v1.0//EN
CALSCALE:GREGORIAN
BEGIN:VTIMEZONE
TZID:Europe/Berlin
X-LIC-LOCATION:Europe/Berlin
BEGIN:DAYLIGHT
TZOFFSETFROM:+0100
TZOFFSETTO:+0200
TZNAME:CEST
DTSTART:19700329T020000
RRULE:FREQ=YEARLY;BYDAY=-1SU;BYMONTH=3
END:DAYLIGHT
BEGIN:STANDARD
TZOFFSETFROM:+0200
TZOFFSETTO:+0100
TZNAME:CET
DTSTART:19701025T030000
RRULE:FREQ=YEARLY;BYDAY=-1SU;BYMONTH=10
END:STANDARD
END:VTIMEZONE
BEGIN:VEVENT
DTEND;TZID=Europe/Berlin:20250911T170000
UID:69e51e9f086e4
DTSTAMP:20260419T202743
LOCATION:Naturschutzzentrum Wilhelmsdorf
DESCRIPTION:Wir Wilhelmsdorfer haben etwas ganz Besonderes vor unserer Haustüre: das Pfrunger-Burgweiler Ried. Ohne die letzte Eiszeit gäbe es hier keine Moorgebiete und auch keinen Torf\, der hier lange Zeit abgebaut wurde. Zum Glück sind die Moore inzwischen geschützt und können dem Klima der Erde helfen.\r\nWir starten in der Ausstellung und gehen dann zu einem Hochmoor\, um diesen besonderen Lebensraum mit seinen fleichfressenden Pflanzen und Torfmoosen kennen zu lernen.
URL;VALUE=URI:https://www.unser-ferienprogramm.de/gemeinde-wilhelmsdorf/veranstaltung.php?id=279033
SUMMARY:Abenteuer Moor
DTSTART;TZID=Europe/Berlin:20250911T140000
END:VEVENT

END:VCALENDAR
