BEGIN:VCALENDAR
VERSION:2.0
PRODID:-//hacksw/handcal//NONSGML v1.0//EN
CALSCALE:GREGORIAN
BEGIN:VTIMEZONE
TZID:Europe/Berlin
X-LIC-LOCATION:Europe/Berlin
BEGIN:DAYLIGHT
TZOFFSETFROM:+0100
TZOFFSETTO:+0200
TZNAME:CEST
DTSTART:19700329T020000
RRULE:FREQ=YEARLY;BYDAY=-1SU;BYMONTH=3
END:DAYLIGHT
BEGIN:STANDARD
TZOFFSETFROM:+0200
TZOFFSETTO:+0100
TZNAME:CET
DTSTART:19701025T030000
RRULE:FREQ=YEARLY;BYDAY=-1SU;BYMONTH=10
END:STANDARD
END:VTIMEZONE
BEGIN:VEVENT
DTEND;TZID=Europe/Berlin:20250802T170000
UID:69e5228b1efcc
DTSTAMP:20260419T204427
LOCATION:Wilhelmsdorf
DESCRIPTION:An diesem Nachmittag treffen sich alle Zauberwürfelbegeisterten der Gemeinde und der Nachbargemeinden. Es handelt sich nicht um einen Anfängerkurs. Aber Du musst auch kein Fortgeschrittener sein\, es reicht wenn Du einen 3x3 Würfel lösen kannst. Wir werden alle voneinander lernen\, viel Spaß haben\, gegenseitig zuschauen\, uns vergleichen\, alles ganz ungezwungen und mit viel Leichtigkeit. Vielleicht willst Du mal einen großen 5x5 Würfel versuchen zu lösen oder uns Dein Können zeigen - all das wird möglich sein.
URL;VALUE=URI:https://www.unser-ferienprogramm.de/gemeinde-wilhelmsdorf/veranstaltung.php?id=279031
SUMMARY:Zauberwürfeltreffen 
DTSTART;TZID=Europe/Berlin:20250802T130000
END:VEVENT

END:VCALENDAR
