BEGIN:VCALENDAR
VERSION:2.0
PRODID:-//hacksw/handcal//NONSGML v1.0//EN
CALSCALE:GREGORIAN
BEGIN:VTIMEZONE
TZID:Europe/Berlin
X-LIC-LOCATION:Europe/Berlin
BEGIN:DAYLIGHT
TZOFFSETFROM:+0100
TZOFFSETTO:+0200
TZNAME:CEST
DTSTART:19700329T020000
RRULE:FREQ=YEARLY;BYDAY=-1SU;BYMONTH=3
END:DAYLIGHT
BEGIN:STANDARD
TZOFFSETFROM:+0200
TZOFFSETTO:+0100
TZNAME:CET
DTSTART:19701025T030000
RRULE:FREQ=YEARLY;BYDAY=-1SU;BYMONTH=10
END:STANDARD
END:VTIMEZONE
BEGIN:VEVENT
DTEND;TZID=Europe/Berlin:20250830T130000
UID:69e533e40c2ae
DTSTAMP:20260419T215828
LOCATION:Vereinsgewässer Nillsee Pfrunger Ried
DESCRIPTION:Lerne den schönsten Platz im Pfrunger Ried bei uns am Nillsee kennen. Die Betreuer der Jugendgruppe des Fischereiverein Pfrunger Ried e.V. begleiten dich an diesem Tag beim Angeln. Essen und Getränke sind in der Anmeldegebühr enthalten.
URL;VALUE=URI:https://www.unser-ferienprogramm.de/gemeinde-wilhelmsdorf/veranstaltung.php?id=228285
SUMMARY:Jugendfischen mit Kinderferienprogramm
DTSTART;TZID=Europe/Berlin:20250830T080000
END:VEVENT

END:VCALENDAR
