BEGIN:VCALENDAR
VERSION:2.0
PRODID:-//hacksw/handcal//NONSGML v1.0//EN
CALSCALE:GREGORIAN
BEGIN:VTIMEZONE
TZID:Europe/Berlin
X-LIC-LOCATION:Europe/Berlin
BEGIN:DAYLIGHT
TZOFFSETFROM:+0100
TZOFFSETTO:+0200
TZNAME:CEST
DTSTART:19700329T020000
RRULE:FREQ=YEARLY;BYDAY=-1SU;BYMONTH=3
END:DAYLIGHT
BEGIN:STANDARD
TZOFFSETFROM:+0200
TZOFFSETTO:+0100
TZNAME:CET
DTSTART:19701025T030000
RRULE:FREQ=YEARLY;BYDAY=-1SU;BYMONTH=10
END:STANDARD
END:VTIMEZONE
BEGIN:VEVENT
DTEND;TZID=Europe/Berlin:20250905T113000
UID:69e51c46eec60
DTSTAMP:20260419T201742
LOCATION:Dorfgemeinschaftshaus Hauptstraße 5/1  88271 Esenhausen-Wilhelmsdorf
DESCRIPTION:Bereit für Action? In unserem Kickbox-Kennenlernkurs für Kinder von 7 bis 12 Jahren zeigen wir\, wie viel Spaß Kickboxen macht! Mit spielerischen Übungen lernen wir erste Kicks\, Punches und Techniken zur Selbstverteidigung kennen - und entdecken dabei wichtige Werte wie Fairness\, Respekt und Teamgeist. Kickboxen stärkt das Selbstbewusstsein\, verbessert die Konzentration und sorgt für jede Menge Bewegung und gute Laune!
URL;VALUE=URI:https://www.unser-ferienprogramm.de/gemeinde-wilhelmsdorf/veranstaltung.php?id=228270
SUMMARY:Kickboxen Kids - Deine ersten Kicks und Moves!
DTSTART;TZID=Europe/Berlin:20250905T103000
END:VEVENT

END:VCALENDAR
