BEGIN:VCALENDAR
VERSION:2.0
PRODID:-//hacksw/handcal//NONSGML v1.0//EN
CALSCALE:GREGORIAN
BEGIN:VTIMEZONE
TZID:Europe/Berlin
X-LIC-LOCATION:Europe/Berlin
BEGIN:DAYLIGHT
TZOFFSETFROM:+0100
TZOFFSETTO:+0200
TZNAME:CEST
DTSTART:19700329T020000
RRULE:FREQ=YEARLY;BYDAY=-1SU;BYMONTH=3
END:DAYLIGHT
BEGIN:STANDARD
TZOFFSETFROM:+0200
TZOFFSETTO:+0100
TZNAME:CET
DTSTART:19701025T030000
RRULE:FREQ=YEARLY;BYDAY=-1SU;BYMONTH=10
END:STANDARD
END:VTIMEZONE
BEGIN:VEVENT
DTEND;TZID=Europe/Berlin:20250904T170000
UID:69e51dd304058
DTSTAMP:20260419T202419
LOCATION:Naturschutzzentrum Wilhelmsdorf
DESCRIPTION:Der Lebensraum der „großen“ Raubtiere in Europa ist immer kleiner geworden\, doch langsam kehren sie nach Deutschland zurück. Leider sind diese scheuen Waldbewohner fast nie zu sehen. Meist schlafen sie am Tag und gehen in der Nacht auf die Jagd. Durch Spiele lernt ihr die einzelnen Besonderheiten der Tiere kennen und könnt mit viel Spaß ausprobieren\, wie Wildkatze\, Luchs oder Wolf zu sein. Nicht alle Menschen sind glücklich über die Rückkehrer – wir besprechen\, wie ein Miteinander aussehen könnte.\r\n\r\n
URL;VALUE=URI:https://www.unser-ferienprogramm.de/gemeinde-wilhelmsdorf/veranstaltung.php?id=227895
SUMMARY:Wildkatze\, Luchs\, Wolf - Willkommen zurück
DTSTART;TZID=Europe/Berlin:20250904T140000
END:VEVENT

END:VCALENDAR
