BEGIN:VCALENDAR
VERSION:2.0
PRODID:-//hacksw/handcal//NONSGML v1.0//EN
CALSCALE:GREGORIAN
BEGIN:VTIMEZONE
TZID:Europe/Berlin
X-LIC-LOCATION:Europe/Berlin
BEGIN:DAYLIGHT
TZOFFSETFROM:+0100
TZOFFSETTO:+0200
TZNAME:CEST
DTSTART:19700329T020000
RRULE:FREQ=YEARLY;BYDAY=-1SU;BYMONTH=3
END:DAYLIGHT
BEGIN:STANDARD
TZOFFSETFROM:+0200
TZOFFSETTO:+0100
TZNAME:CET
DTSTART:19701025T030000
RRULE:FREQ=YEARLY;BYDAY=-1SU;BYMONTH=10
END:STANDARD
END:VTIMEZONE
BEGIN:VEVENT
DTEND;TZID=Europe/Berlin:20250828T170000
UID:69e533e8895c6
DTSTAMP:20260419T215832
LOCATION:Naturschutzzentrum Wilhelmsdorf
DESCRIPTION:Lange hat es gedauert\, bis auch der Fischotter wieder in Baden-Württemberg angekommen ist.\r\nDieser lebhafte kleine Kerl liebt Fische und Wasser. Ihr auch? In der Fischotter-Ausstellung können wir ein Tierpräparat anschauen und vieles über den Fischotter erfahren. Auch wenn er bisher noch nicht im Pfrunger-Burgweiler Ried war\, könnte er bald im Ried zu sehen sein. Mit Hilfe von vielen Spielen können wir dieses Tier und seine Besonderheiten viel besser verstehen. \r\n
URL;VALUE=URI:https://www.unser-ferienprogramm.de/gemeinde-wilhelmsdorf/veranstaltung.php?id=227070
SUMMARY:Der Fischotter - Action im Wasser
DTSTART;TZID=Europe/Berlin:20250828T140000
END:VEVENT

END:VCALENDAR
