BEGIN:VCALENDAR
VERSION:2.0
PRODID:-//hacksw/handcal//NONSGML v1.0//EN
CALSCALE:GREGORIAN
BEGIN:VTIMEZONE
TZID:Europe/Berlin
X-LIC-LOCATION:Europe/Berlin
BEGIN:DAYLIGHT
TZOFFSETFROM:+0100
TZOFFSETTO:+0200
TZNAME:CEST
DTSTART:19700329T020000
RRULE:FREQ=YEARLY;BYDAY=-1SU;BYMONTH=3
END:DAYLIGHT
BEGIN:STANDARD
TZOFFSETFROM:+0200
TZOFFSETTO:+0100
TZNAME:CET
DTSTART:19701025T030000
RRULE:FREQ=YEARLY;BYDAY=-1SU;BYMONTH=10
END:STANDARD
END:VTIMEZONE
BEGIN:VEVENT
DTEND;TZID=Europe/Berlin:20250811T130000
UID:69e51efcf3188
DTSTAMP:20260419T202916
LOCATION:Naturschutzzentrum Wilhelmsdorf
DESCRIPTION:Spielerisch dürfen die Kinder zwischen 9 und 12 Jahren das Material Ton erkunden. In diesem Kurs werden wir Tiere modellieren als kleine oder große Zaunreiter\, die als Insektenhotel dienen. Wir kneten\, formen\, rollen und klopfen den Ton und verzieren die getöpferten Objekte mit Stempeln. Gerne dürft Ihr euer Lieblingstier z.B als Schleichfigur oder Plüschtier mitbringen und wir werden diese dann Nachbilden. Der Kreativität sind keine Grenzen gesetzt
URL;VALUE=URI:https://www.unser-ferienprogramm.de/gemeinde-wilhelmsdorf/veranstaltung.php?id=170209
SUMMARY:Modellieren heimischer Tiere (Töpfern für Kinder)
DTSTART;TZID=Europe/Berlin:20250811T100000
END:VEVENT

END:VCALENDAR
