BEGIN:VCALENDAR
VERSION:2.0
PRODID:-//hacksw/handcal//NONSGML v1.0//EN
CALSCALE:GREGORIAN
BEGIN:VTIMEZONE
TZID:Europe/Berlin
X-LIC-LOCATION:Europe/Berlin
BEGIN:DAYLIGHT
TZOFFSETFROM:+0100
TZOFFSETTO:+0200
TZNAME:CEST
DTSTART:19700329T020000
RRULE:FREQ=YEARLY;BYDAY=-1SU;BYMONTH=3
END:DAYLIGHT
BEGIN:STANDARD
TZOFFSETFROM:+0200
TZOFFSETTO:+0100
TZNAME:CET
DTSTART:19701025T030000
RRULE:FREQ=YEARLY;BYDAY=-1SU;BYMONTH=10
END:STANDARD
END:VTIMEZONE
BEGIN:VEVENT
DTEND;TZID=Europe/Berlin:20250804T120000
UID:69e520ecec923
DTSTAMP:20260419T203732
LOCATION:Naturschutzzentrum Wilhelmsdorf
DESCRIPTION:Spielerisch dürfen die Kinder zwischen 5 und 6 Jahren das Material Ton erkunden.\r\nWir kneten\, formen\, rollen und klopfen den Ton und verzieren die getöpferten Objekte mit Stempeln.\r\nFormen kleine Schmetterlings- und Bienentränken oder Insektenhotels.\r\nDer Kreativität sind keine Grenzen gesetzt.\r\n\r\n
URL;VALUE=URI:https://www.unser-ferienprogramm.de/gemeinde-wilhelmsdorf/veranstaltung.php?id=134771
SUMMARY:Töpfern für Kinder
DTSTART;TZID=Europe/Berlin:20250804T100000
END:VEVENT

END:VCALENDAR
