BEGIN:VCALENDAR
VERSION:2.0
PRODID:-//hacksw/handcal//NONSGML v1.0//EN
CALSCALE:GREGORIAN
BEGIN:VTIMEZONE
TZID:Europe/Berlin
X-LIC-LOCATION:Europe/Berlin
BEGIN:DAYLIGHT
TZOFFSETFROM:+0100
TZOFFSETTO:+0200
TZNAME:CEST
DTSTART:19700329T020000
RRULE:FREQ=YEARLY;BYDAY=-1SU;BYMONTH=3
END:DAYLIGHT
BEGIN:STANDARD
TZOFFSETFROM:+0200
TZOFFSETTO:+0100
TZNAME:CET
DTSTART:19701025T030000
RRULE:FREQ=YEARLY;BYDAY=-1SU;BYMONTH=10
END:STANDARD
END:VTIMEZONE
BEGIN:VEVENT
DTEND;TZID=Europe/Berlin:20250830T220000
UID:69e5221d7d37b
DTSTAMP:20260419T204237
LOCATION:Naturschutzzentrum Wilhelmsdorf
DESCRIPTION:Heute dreht sich alles um die Fledermäuse:\r\nBei Stoffdruck\, Spielen und im „Fledermauskino“ beschäftigen wir uns nachmittags mit der spannenden Lebensweise der heimlichen Jäger in der Nacht.\r\nMit einem mitgebrachten Rucksack-Vesper könnt Ihr Euch vor der Abendexkursion nochmal stärken.\r\nDanach geht‘s mit der Fledermausexpertin Pia Wilhelm raus in die Nacht\, und wir versuchen\, Fledermäuse bei ihren nächtlichen Aktivitäten zu beobachten.\r\nTeilnehmen können Kinder (allein ab 8 Jahren) und Erwachsene. Kinder unter 8 Jahren müssen von einem Erwachsenen begleitet sein.\r\nBitte bringt ein helles T-Shirt oder eine Stofftasche zum Bedrucken/Bemalen\, sowie eine Kopf- oder Taschenlampe für die Exkursion mit! Auch etwas zu Essen und Trinken für die Vesperpause sind notwendig.\r\nBitte an wettergemäße Kleidung (lange Hose\, feste Schuhe\, Jacke für den Abend) sowie Mückenschutz denken.\r\n\r\n\r\n\r\n\r\n
URL;VALUE=URI:https://www.unser-ferienprogramm.de/gemeinde-wilhelmsdorf/veranstaltung.php?id=100707
SUMMARY:Wilhelmsdorfer Fledermausnacht
DTSTART;TZID=Europe/Berlin:20250830T160000
END:VEVENT

END:VCALENDAR
