BEGIN:VCALENDAR
VERSION:2.0
PRODID:-//hacksw/handcal//NONSGML v1.0//EN
CALSCALE:GREGORIAN
BEGIN:VTIMEZONE
TZID:Europe/Berlin
X-LIC-LOCATION:Europe/Berlin
BEGIN:DAYLIGHT
TZOFFSETFROM:+0100
TZOFFSETTO:+0200
TZNAME:CEST
DTSTART:19700329T020000
RRULE:FREQ=YEARLY;BYDAY=-1SU;BYMONTH=3
END:DAYLIGHT
BEGIN:STANDARD
TZOFFSETFROM:+0200
TZOFFSETTO:+0100
TZNAME:CET
DTSTART:19701025T030000
RRULE:FREQ=YEARLY;BYDAY=-1SU;BYMONTH=10
END:STANDARD
END:VTIMEZONE
BEGIN:VEVENT
DTEND;TZID=Europe/Berlin:20260710T130000
UID:69e8f0e386dd0
DTSTAMP:20260422T180139
LOCATION:Bürgerhaus Poppenrod
DESCRIPTION:Die Gemeinde Hosenfeld bietet im Rahmen der Ferienfreizeit 2026 ein fünftägiges Programm mit verschiedenen Thementagen\, für Kinder im Alter von 6 bis 12 Jahren an. Von Spiel und Sport bis hin zu Umwelt\, Landwirtschaft und Ausflügen ist alles dabei. Hier eine Übersicht:\r\n\r\nMontag: Kennenlerntag - Spiel und Spaß mit unseren Betreuerinnen\r\nDienstag: Sporttag - In Kooperation mit lokalen Vereinen können verschiedene sportliche Aktivitäten gemacht werden (Handball\, Tanzen\, Zumba\, Inline-Skating)\r\nMittwoch - Ausflug in den "Vogelpark" Schotten\r\nDonnerstag - Landwirtschaftlicher Tag  (Besichtigung des Bauernhofes Ehrenstruth in Hainzell - gemeinsames Pizzabacken im Bürgerhaus Hainzell) - Achtung Treffpunkt Bürgerhaus Hainzell\r\nFreitag - Umwelttag (Besichtigung der Bienenhaltung beim Imkerverein Hosenfeld-Großenlüder - Abschlussgrillen)\r\nHinweis: Einzelne Tage können nicht gebucht werden. Die Buchung ist nur für die ganze Woche möglich!\r\n\r\nIn den Teilnehmergebühren enthalten sind neben dem Ferienprogramm\, die Betreuung bei Spielen und Bastelarbeiten sowie Mittagessen mit Getränken und ein T-Shirt zur Gestaltung.\r\n
URL;VALUE=URI:https://www.unser-ferienprogramm.de/gemeinde-hosenfeld/veranstaltung.php?id=311849
SUMMARY:Ferienfreizeit 2026 - Gemeinde Hosenfeld
DTSTART;TZID=Europe/Berlin:20260706T090000
END:VEVENT

END:VCALENDAR
