BEGIN:VCALENDAR
VERSION:2.0
PRODID:-//hacksw/handcal//NONSGML v1.0//EN
CALSCALE:GREGORIAN
BEGIN:VTIMEZONE
TZID:Europe/Berlin
X-LIC-LOCATION:Europe/Berlin
BEGIN:DAYLIGHT
TZOFFSETFROM:+0100
TZOFFSETTO:+0200
TZNAME:CEST
DTSTART:19700329T020000
RRULE:FREQ=YEARLY;BYDAY=-1SU;BYMONTH=3
END:DAYLIGHT
BEGIN:STANDARD
TZOFFSETFROM:+0200
TZOFFSETTO:+0100
TZNAME:CET
DTSTART:19701025T030000
RRULE:FREQ=YEARLY;BYDAY=-1SU;BYMONTH=10
END:STANDARD
END:VTIMEZONE
BEGIN:VEVENT
DTEND;TZID=Europe/Berlin:20270518T160000
UID:69e859cdbf035
DTSTAMP:20260422T071701
LOCATION:F23 Jugend-Kultur-Kids
DESCRIPTION:Die Erstklässler haben ab Herbst 2026 eine Rechtsanspruch auf Ganztagesbetreuung und müssen daher prioritär behandelt werden. Sollte es noch verfügbare Plätze geben\, dann stehen diese jedoch auch für die Kinder der Klassen 2 bis 4 zur Verfügung.\r\n\r\nDer Gemeinderat der Stadt Freudenstadt hat die Gebühr für die Ganztagesbetreuung in den Ferien auf 20.-€ pro Tag festgesetzt. Dieser beinhaltet die Betreuung ihrer Kinder durch Personal des Kinder- und Jugendreferates zwischen 8 und 16 Uhr sowie ein Mittagessen. Während das Mittagessen im Preis enthalten ist\, bringen die Kinder für den Vor- und Nachmittag bitte eine individuell abgestimmte Verpflegung in Form einer Frühstücksbox mit Vesper\, Obst und Snacks mit.\r\n\r\nAus Gründen der Personalplanung muss die Anmeldung für die gewählten Betreuungsblöcke (siehe Kalender) für das Schuljahr 2026/2027 bis zum 31.05.26 hier auf der Plattform verbindlich abgeschlossen sein.\r\n\r\nNach der Bestätigung des Betreuungsplatzes für ihr Kind werden ihnen zunächst 30% der aus der Anmeldung resultierenden Gesamtsumme abgebucht. Die Restsumme wird je nach Anmeldung in zwei weiteren Schritten eingezogen.\r\n\r\n\r\nIn den Pfingstferien gilt das Ganztagesbetreuungsangebot an 7 Tagen (siehe Kalender)\, daher entstehen hier Gebühren von 140.-€.
URL;VALUE=URI:https://www.unser-ferienprogramm.de/ganztag-fds/veranstaltung.php?id=304623
SUMMARY:Warteliste für Kinder der 2. bis 4. Klasse - Ganztagesbetreuung in den Pfingstferien 2027
DTSTART;TZID=Europe/Berlin:20270518T080000
END:VEVENT


BEGIN:VEVENT
DTEND;TZID=Europe/Berlin:20270519T160000
UID:69e859cdbf0771
DTSTAMP:20260422T071701
LOCATION:F23 Jugend-Kultur-Kids
DESCRIPTION:Die Erstklässler haben ab Herbst 2026 eine Rechtsanspruch auf Ganztagesbetreuung und müssen daher prioritär behandelt werden. Sollte es noch verfügbare Plätze geben\, dann stehen diese jedoch auch für die Kinder der Klassen 2 bis 4 zur Verfügung.\r\n\r\nDer Gemeinderat der Stadt Freudenstadt hat die Gebühr für die Ganztagesbetreuung in den Ferien auf 20.-€ pro Tag festgesetzt. Dieser beinhaltet die Betreuung ihrer Kinder durch Personal des Kinder- und Jugendreferates zwischen 8 und 16 Uhr sowie ein Mittagessen. Während das Mittagessen im Preis enthalten ist\, bringen die Kinder für den Vor- und Nachmittag bitte eine individuell abgestimmte Verpflegung in Form einer Frühstücksbox mit Vesper\, Obst und Snacks mit.\r\n\r\nAus Gründen der Personalplanung muss die Anmeldung für die gewählten Betreuungsblöcke (siehe Kalender) für das Schuljahr 2026/2027 bis zum 31.05.26 hier auf der Plattform verbindlich abgeschlossen sein.\r\n\r\nNach der Bestätigung des Betreuungsplatzes für ihr Kind werden ihnen zunächst 30% der aus der Anmeldung resultierenden Gesamtsumme abgebucht. Die Restsumme wird je nach Anmeldung in zwei weiteren Schritten eingezogen.\r\n\r\n\r\nIn den Pfingstferien gilt das Ganztagesbetreuungsangebot an 7 Tagen (siehe Kalender)\, daher entstehen hier Gebühren von 140.-€.
URL;VALUE=URI:https://www.unser-ferienprogramm.de/ganztag-fds/veranstaltung.php?id=304623
SUMMARY:Warteliste für Kinder der 2. bis 4. Klasse - Ganztagesbetreuung in den Pfingstferien 2027
DTSTART;TZID=Europe/Berlin:20270519T080000
END:VEVENT


BEGIN:VEVENT
DTEND;TZID=Europe/Berlin:20270520T160000
UID:69e859cdbf08a2
DTSTAMP:20260422T071701
LOCATION:F23 Jugend-Kultur-Kids
DESCRIPTION:Die Erstklässler haben ab Herbst 2026 eine Rechtsanspruch auf Ganztagesbetreuung und müssen daher prioritär behandelt werden. Sollte es noch verfügbare Plätze geben\, dann stehen diese jedoch auch für die Kinder der Klassen 2 bis 4 zur Verfügung.\r\n\r\nDer Gemeinderat der Stadt Freudenstadt hat die Gebühr für die Ganztagesbetreuung in den Ferien auf 20.-€ pro Tag festgesetzt. Dieser beinhaltet die Betreuung ihrer Kinder durch Personal des Kinder- und Jugendreferates zwischen 8 und 16 Uhr sowie ein Mittagessen. Während das Mittagessen im Preis enthalten ist\, bringen die Kinder für den Vor- und Nachmittag bitte eine individuell abgestimmte Verpflegung in Form einer Frühstücksbox mit Vesper\, Obst und Snacks mit.\r\n\r\nAus Gründen der Personalplanung muss die Anmeldung für die gewählten Betreuungsblöcke (siehe Kalender) für das Schuljahr 2026/2027 bis zum 31.05.26 hier auf der Plattform verbindlich abgeschlossen sein.\r\n\r\nNach der Bestätigung des Betreuungsplatzes für ihr Kind werden ihnen zunächst 30% der aus der Anmeldung resultierenden Gesamtsumme abgebucht. Die Restsumme wird je nach Anmeldung in zwei weiteren Schritten eingezogen.\r\n\r\n\r\nIn den Pfingstferien gilt das Ganztagesbetreuungsangebot an 7 Tagen (siehe Kalender)\, daher entstehen hier Gebühren von 140.-€.
URL;VALUE=URI:https://www.unser-ferienprogramm.de/ganztag-fds/veranstaltung.php?id=304623
SUMMARY:Warteliste für Kinder der 2. bis 4. Klasse - Ganztagesbetreuung in den Pfingstferien 2027
DTSTART;TZID=Europe/Berlin:20270520T080000
END:VEVENT


BEGIN:VEVENT
DTEND;TZID=Europe/Berlin:20270521T160000
UID:69e859cdbf0993
DTSTAMP:20260422T071701
LOCATION:F23 Jugend-Kultur-Kids
DESCRIPTION:Die Erstklässler haben ab Herbst 2026 eine Rechtsanspruch auf Ganztagesbetreuung und müssen daher prioritär behandelt werden. Sollte es noch verfügbare Plätze geben\, dann stehen diese jedoch auch für die Kinder der Klassen 2 bis 4 zur Verfügung.\r\n\r\nDer Gemeinderat der Stadt Freudenstadt hat die Gebühr für die Ganztagesbetreuung in den Ferien auf 20.-€ pro Tag festgesetzt. Dieser beinhaltet die Betreuung ihrer Kinder durch Personal des Kinder- und Jugendreferates zwischen 8 und 16 Uhr sowie ein Mittagessen. Während das Mittagessen im Preis enthalten ist\, bringen die Kinder für den Vor- und Nachmittag bitte eine individuell abgestimmte Verpflegung in Form einer Frühstücksbox mit Vesper\, Obst und Snacks mit.\r\n\r\nAus Gründen der Personalplanung muss die Anmeldung für die gewählten Betreuungsblöcke (siehe Kalender) für das Schuljahr 2026/2027 bis zum 31.05.26 hier auf der Plattform verbindlich abgeschlossen sein.\r\n\r\nNach der Bestätigung des Betreuungsplatzes für ihr Kind werden ihnen zunächst 30% der aus der Anmeldung resultierenden Gesamtsumme abgebucht. Die Restsumme wird je nach Anmeldung in zwei weiteren Schritten eingezogen.\r\n\r\n\r\nIn den Pfingstferien gilt das Ganztagesbetreuungsangebot an 7 Tagen (siehe Kalender)\, daher entstehen hier Gebühren von 140.-€.
URL;VALUE=URI:https://www.unser-ferienprogramm.de/ganztag-fds/veranstaltung.php?id=304623
SUMMARY:Warteliste für Kinder der 2. bis 4. Klasse - Ganztagesbetreuung in den Pfingstferien 2027
DTSTART;TZID=Europe/Berlin:20270521T080000
END:VEVENT


BEGIN:VEVENT
DTEND;TZID=Europe/Berlin:20270524T160000
UID:69e859cdbf0a74
DTSTAMP:20260422T071701
LOCATION:F23 Jugend-Kultur-Kids
DESCRIPTION:Die Erstklässler haben ab Herbst 2026 eine Rechtsanspruch auf Ganztagesbetreuung und müssen daher prioritär behandelt werden. Sollte es noch verfügbare Plätze geben\, dann stehen diese jedoch auch für die Kinder der Klassen 2 bis 4 zur Verfügung.\r\n\r\nDer Gemeinderat der Stadt Freudenstadt hat die Gebühr für die Ganztagesbetreuung in den Ferien auf 20.-€ pro Tag festgesetzt. Dieser beinhaltet die Betreuung ihrer Kinder durch Personal des Kinder- und Jugendreferates zwischen 8 und 16 Uhr sowie ein Mittagessen. Während das Mittagessen im Preis enthalten ist\, bringen die Kinder für den Vor- und Nachmittag bitte eine individuell abgestimmte Verpflegung in Form einer Frühstücksbox mit Vesper\, Obst und Snacks mit.\r\n\r\nAus Gründen der Personalplanung muss die Anmeldung für die gewählten Betreuungsblöcke (siehe Kalender) für das Schuljahr 2026/2027 bis zum 31.05.26 hier auf der Plattform verbindlich abgeschlossen sein.\r\n\r\nNach der Bestätigung des Betreuungsplatzes für ihr Kind werden ihnen zunächst 30% der aus der Anmeldung resultierenden Gesamtsumme abgebucht. Die Restsumme wird je nach Anmeldung in zwei weiteren Schritten eingezogen.\r\n\r\n\r\nIn den Pfingstferien gilt das Ganztagesbetreuungsangebot an 7 Tagen (siehe Kalender)\, daher entstehen hier Gebühren von 140.-€.
URL;VALUE=URI:https://www.unser-ferienprogramm.de/ganztag-fds/veranstaltung.php?id=304623
SUMMARY:Warteliste für Kinder der 2. bis 4. Klasse - Ganztagesbetreuung in den Pfingstferien 2027
DTSTART;TZID=Europe/Berlin:20270524T080000
END:VEVENT


BEGIN:VEVENT
DTEND;TZID=Europe/Berlin:20270525T160000
UID:69e859cdbf0b55
DTSTAMP:20260422T071701
LOCATION:F23 Jugend-Kultur-Kids
DESCRIPTION:Die Erstklässler haben ab Herbst 2026 eine Rechtsanspruch auf Ganztagesbetreuung und müssen daher prioritär behandelt werden. Sollte es noch verfügbare Plätze geben\, dann stehen diese jedoch auch für die Kinder der Klassen 2 bis 4 zur Verfügung.\r\n\r\nDer Gemeinderat der Stadt Freudenstadt hat die Gebühr für die Ganztagesbetreuung in den Ferien auf 20.-€ pro Tag festgesetzt. Dieser beinhaltet die Betreuung ihrer Kinder durch Personal des Kinder- und Jugendreferates zwischen 8 und 16 Uhr sowie ein Mittagessen. Während das Mittagessen im Preis enthalten ist\, bringen die Kinder für den Vor- und Nachmittag bitte eine individuell abgestimmte Verpflegung in Form einer Frühstücksbox mit Vesper\, Obst und Snacks mit.\r\n\r\nAus Gründen der Personalplanung muss die Anmeldung für die gewählten Betreuungsblöcke (siehe Kalender) für das Schuljahr 2026/2027 bis zum 31.05.26 hier auf der Plattform verbindlich abgeschlossen sein.\r\n\r\nNach der Bestätigung des Betreuungsplatzes für ihr Kind werden ihnen zunächst 30% der aus der Anmeldung resultierenden Gesamtsumme abgebucht. Die Restsumme wird je nach Anmeldung in zwei weiteren Schritten eingezogen.\r\n\r\n\r\nIn den Pfingstferien gilt das Ganztagesbetreuungsangebot an 7 Tagen (siehe Kalender)\, daher entstehen hier Gebühren von 140.-€.
URL;VALUE=URI:https://www.unser-ferienprogramm.de/ganztag-fds/veranstaltung.php?id=304623
SUMMARY:Warteliste für Kinder der 2. bis 4. Klasse - Ganztagesbetreuung in den Pfingstferien 2027
DTSTART;TZID=Europe/Berlin:20270525T080000
END:VEVENT


BEGIN:VEVENT
DTEND;TZID=Europe/Berlin:20270526T160000
UID:69e859cdbf0c36
DTSTAMP:20260422T071701
LOCATION:F23 Jugend-Kultur-Kids
DESCRIPTION:Die Erstklässler haben ab Herbst 2026 eine Rechtsanspruch auf Ganztagesbetreuung und müssen daher prioritär behandelt werden. Sollte es noch verfügbare Plätze geben\, dann stehen diese jedoch auch für die Kinder der Klassen 2 bis 4 zur Verfügung.\r\n\r\nDer Gemeinderat der Stadt Freudenstadt hat die Gebühr für die Ganztagesbetreuung in den Ferien auf 20.-€ pro Tag festgesetzt. Dieser beinhaltet die Betreuung ihrer Kinder durch Personal des Kinder- und Jugendreferates zwischen 8 und 16 Uhr sowie ein Mittagessen. Während das Mittagessen im Preis enthalten ist\, bringen die Kinder für den Vor- und Nachmittag bitte eine individuell abgestimmte Verpflegung in Form einer Frühstücksbox mit Vesper\, Obst und Snacks mit.\r\n\r\nAus Gründen der Personalplanung muss die Anmeldung für die gewählten Betreuungsblöcke (siehe Kalender) für das Schuljahr 2026/2027 bis zum 31.05.26 hier auf der Plattform verbindlich abgeschlossen sein.\r\n\r\nNach der Bestätigung des Betreuungsplatzes für ihr Kind werden ihnen zunächst 30% der aus der Anmeldung resultierenden Gesamtsumme abgebucht. Die Restsumme wird je nach Anmeldung in zwei weiteren Schritten eingezogen.\r\n\r\n\r\nIn den Pfingstferien gilt das Ganztagesbetreuungsangebot an 7 Tagen (siehe Kalender)\, daher entstehen hier Gebühren von 140.-€.
URL;VALUE=URI:https://www.unser-ferienprogramm.de/ganztag-fds/veranstaltung.php?id=304623
SUMMARY:Warteliste für Kinder der 2. bis 4. Klasse - Ganztagesbetreuung in den Pfingstferien 2027
DTSTART;TZID=Europe/Berlin:20270526T080000
END:VEVENT

END:VCALENDAR
