BEGIN:VCALENDAR
VERSION:2.0
PRODID:-//hacksw/handcal//NONSGML v1.0//EN
CALSCALE:GREGORIAN
BEGIN:VTIMEZONE
TZID:Europe/Berlin
X-LIC-LOCATION:Europe/Berlin
BEGIN:DAYLIGHT
TZOFFSETFROM:+0100
TZOFFSETTO:+0200
TZNAME:CEST
DTSTART:19700329T020000
RRULE:FREQ=YEARLY;BYDAY=-1SU;BYMONTH=3
END:DAYLIGHT
BEGIN:STANDARD
TZOFFSETFROM:+0200
TZOFFSETTO:+0100
TZNAME:CET
DTSTART:19701025T030000
RRULE:FREQ=YEARLY;BYDAY=-1SU;BYMONTH=10
END:STANDARD
END:VTIMEZONE
BEGIN:VEVENT
DTEND;TZID=Europe/Berlin:20270729T160000
UID:69e8598a1df02
DTSTAMP:20260422T071554
LOCATION:F23 Jugend-Kultur-Kids
DESCRIPTION:Die Erstklässler haben ab Herbst 2026 eine Rechtsanspruch auf Ganztagesbetreuung und müssen daher prioritär behandelt werden. Sollte es noch verfügbare Plätze geben\, dann stehen diese jedoch auch für die Kinder der Klassen 2 bis 4 zur Verfügung.\r\n\r\nDer Gemeinderat der Stadt Freudenstadt hat die Gebühr für die Ganztagesbetreuung in den Ferien auf 20.-€ pro Tag festgesetzt. Dieser beinhaltet die Betreuung ihrer Kinder durch Personal des Kinder- und Jugendreferates zwischen 8 und 16 Uhr sowie ein Mittagessen. Während das Mittagessen im Preis enthalten ist\, bringen die Kinder für den Vor- und Nachmittag bitte eine individuell abgestimmte Verpflegung in Form einer Frühstücksbox mit Vesper\, Obst und Snacks mit.\r\n\r\nAus Gründen der Personalplanung muss die Anmeldung für die gewählten Betreuungsblöcke (siehe Kalender) für das Schuljahr 2026/2027 bis zum 31.03.26 hier auf der Plattform verbindlich abgeschlossen sein.\r\n\r\nNach der Bestätigung des Betreuungsplatzes für ihr Kind werden ihnen zunächst 30% der aus der Anmeldung resultierenden Gesamtsumme abgebucht. Die Restsumme wird je nach Anmeldung in zwei weiteren Schritten eingezogen.\r\nIn der KW 30/31 in den Sommerferien Weihnachtsferienferien gilt das Ganztagesbetreuungsangebot an 7 Tagen (siehe Kalender)\, daher entstehen hier Gebühren von 140.-€.
URL;VALUE=URI:https://www.unser-ferienprogramm.de/ganztag-fds/veranstaltung.php?id=304437
SUMMARY:Ganztagesbetreuung für Kinder der 1.Klasse in den Sommerferien 2027 - KW 30/31- 29.07.-06.08.27
DTSTART;TZID=Europe/Berlin:20270729T080000
END:VEVENT


BEGIN:VEVENT
DTEND;TZID=Europe/Berlin:20270730T160000
UID:69e8598a1df441
DTSTAMP:20260422T071554
LOCATION:F23 Jugend-Kultur-Kids
DESCRIPTION:Die Erstklässler haben ab Herbst 2026 eine Rechtsanspruch auf Ganztagesbetreuung und müssen daher prioritär behandelt werden. Sollte es noch verfügbare Plätze geben\, dann stehen diese jedoch auch für die Kinder der Klassen 2 bis 4 zur Verfügung.\r\n\r\nDer Gemeinderat der Stadt Freudenstadt hat die Gebühr für die Ganztagesbetreuung in den Ferien auf 20.-€ pro Tag festgesetzt. Dieser beinhaltet die Betreuung ihrer Kinder durch Personal des Kinder- und Jugendreferates zwischen 8 und 16 Uhr sowie ein Mittagessen. Während das Mittagessen im Preis enthalten ist\, bringen die Kinder für den Vor- und Nachmittag bitte eine individuell abgestimmte Verpflegung in Form einer Frühstücksbox mit Vesper\, Obst und Snacks mit.\r\n\r\nAus Gründen der Personalplanung muss die Anmeldung für die gewählten Betreuungsblöcke (siehe Kalender) für das Schuljahr 2026/2027 bis zum 31.03.26 hier auf der Plattform verbindlich abgeschlossen sein.\r\n\r\nNach der Bestätigung des Betreuungsplatzes für ihr Kind werden ihnen zunächst 30% der aus der Anmeldung resultierenden Gesamtsumme abgebucht. Die Restsumme wird je nach Anmeldung in zwei weiteren Schritten eingezogen.\r\nIn der KW 30/31 in den Sommerferien Weihnachtsferienferien gilt das Ganztagesbetreuungsangebot an 7 Tagen (siehe Kalender)\, daher entstehen hier Gebühren von 140.-€.
URL;VALUE=URI:https://www.unser-ferienprogramm.de/ganztag-fds/veranstaltung.php?id=304437
SUMMARY:Ganztagesbetreuung für Kinder der 1.Klasse in den Sommerferien 2027 - KW 30/31- 29.07.-06.08.27
DTSTART;TZID=Europe/Berlin:20270730T080000
END:VEVENT


BEGIN:VEVENT
DTEND;TZID=Europe/Berlin:20270802T160000
UID:69e8598a1df572
DTSTAMP:20260422T071554
LOCATION:F23 Jugend-Kultur-Kids
DESCRIPTION:Die Erstklässler haben ab Herbst 2026 eine Rechtsanspruch auf Ganztagesbetreuung und müssen daher prioritär behandelt werden. Sollte es noch verfügbare Plätze geben\, dann stehen diese jedoch auch für die Kinder der Klassen 2 bis 4 zur Verfügung.\r\n\r\nDer Gemeinderat der Stadt Freudenstadt hat die Gebühr für die Ganztagesbetreuung in den Ferien auf 20.-€ pro Tag festgesetzt. Dieser beinhaltet die Betreuung ihrer Kinder durch Personal des Kinder- und Jugendreferates zwischen 8 und 16 Uhr sowie ein Mittagessen. Während das Mittagessen im Preis enthalten ist\, bringen die Kinder für den Vor- und Nachmittag bitte eine individuell abgestimmte Verpflegung in Form einer Frühstücksbox mit Vesper\, Obst und Snacks mit.\r\n\r\nAus Gründen der Personalplanung muss die Anmeldung für die gewählten Betreuungsblöcke (siehe Kalender) für das Schuljahr 2026/2027 bis zum 31.03.26 hier auf der Plattform verbindlich abgeschlossen sein.\r\n\r\nNach der Bestätigung des Betreuungsplatzes für ihr Kind werden ihnen zunächst 30% der aus der Anmeldung resultierenden Gesamtsumme abgebucht. Die Restsumme wird je nach Anmeldung in zwei weiteren Schritten eingezogen.\r\nIn der KW 30/31 in den Sommerferien Weihnachtsferienferien gilt das Ganztagesbetreuungsangebot an 7 Tagen (siehe Kalender)\, daher entstehen hier Gebühren von 140.-€.
URL;VALUE=URI:https://www.unser-ferienprogramm.de/ganztag-fds/veranstaltung.php?id=304437
SUMMARY:Ganztagesbetreuung für Kinder der 1.Klasse in den Sommerferien 2027 - KW 30/31- 29.07.-06.08.27
DTSTART;TZID=Europe/Berlin:20270802T080000
END:VEVENT


BEGIN:VEVENT
DTEND;TZID=Europe/Berlin:20270803T160000
UID:69e8598a1df653
DTSTAMP:20260422T071554
LOCATION:F23 Jugend-Kultur-Kids
DESCRIPTION:Die Erstklässler haben ab Herbst 2026 eine Rechtsanspruch auf Ganztagesbetreuung und müssen daher prioritär behandelt werden. Sollte es noch verfügbare Plätze geben\, dann stehen diese jedoch auch für die Kinder der Klassen 2 bis 4 zur Verfügung.\r\n\r\nDer Gemeinderat der Stadt Freudenstadt hat die Gebühr für die Ganztagesbetreuung in den Ferien auf 20.-€ pro Tag festgesetzt. Dieser beinhaltet die Betreuung ihrer Kinder durch Personal des Kinder- und Jugendreferates zwischen 8 und 16 Uhr sowie ein Mittagessen. Während das Mittagessen im Preis enthalten ist\, bringen die Kinder für den Vor- und Nachmittag bitte eine individuell abgestimmte Verpflegung in Form einer Frühstücksbox mit Vesper\, Obst und Snacks mit.\r\n\r\nAus Gründen der Personalplanung muss die Anmeldung für die gewählten Betreuungsblöcke (siehe Kalender) für das Schuljahr 2026/2027 bis zum 31.03.26 hier auf der Plattform verbindlich abgeschlossen sein.\r\n\r\nNach der Bestätigung des Betreuungsplatzes für ihr Kind werden ihnen zunächst 30% der aus der Anmeldung resultierenden Gesamtsumme abgebucht. Die Restsumme wird je nach Anmeldung in zwei weiteren Schritten eingezogen.\r\nIn der KW 30/31 in den Sommerferien Weihnachtsferienferien gilt das Ganztagesbetreuungsangebot an 7 Tagen (siehe Kalender)\, daher entstehen hier Gebühren von 140.-€.
URL;VALUE=URI:https://www.unser-ferienprogramm.de/ganztag-fds/veranstaltung.php?id=304437
SUMMARY:Ganztagesbetreuung für Kinder der 1.Klasse in den Sommerferien 2027 - KW 30/31- 29.07.-06.08.27
DTSTART;TZID=Europe/Berlin:20270803T080000
END:VEVENT


BEGIN:VEVENT
DTEND;TZID=Europe/Berlin:20270804T160000
UID:69e8598a1df734
DTSTAMP:20260422T071554
LOCATION:F23 Jugend-Kultur-Kids
DESCRIPTION:Die Erstklässler haben ab Herbst 2026 eine Rechtsanspruch auf Ganztagesbetreuung und müssen daher prioritär behandelt werden. Sollte es noch verfügbare Plätze geben\, dann stehen diese jedoch auch für die Kinder der Klassen 2 bis 4 zur Verfügung.\r\n\r\nDer Gemeinderat der Stadt Freudenstadt hat die Gebühr für die Ganztagesbetreuung in den Ferien auf 20.-€ pro Tag festgesetzt. Dieser beinhaltet die Betreuung ihrer Kinder durch Personal des Kinder- und Jugendreferates zwischen 8 und 16 Uhr sowie ein Mittagessen. Während das Mittagessen im Preis enthalten ist\, bringen die Kinder für den Vor- und Nachmittag bitte eine individuell abgestimmte Verpflegung in Form einer Frühstücksbox mit Vesper\, Obst und Snacks mit.\r\n\r\nAus Gründen der Personalplanung muss die Anmeldung für die gewählten Betreuungsblöcke (siehe Kalender) für das Schuljahr 2026/2027 bis zum 31.03.26 hier auf der Plattform verbindlich abgeschlossen sein.\r\n\r\nNach der Bestätigung des Betreuungsplatzes für ihr Kind werden ihnen zunächst 30% der aus der Anmeldung resultierenden Gesamtsumme abgebucht. Die Restsumme wird je nach Anmeldung in zwei weiteren Schritten eingezogen.\r\nIn der KW 30/31 in den Sommerferien Weihnachtsferienferien gilt das Ganztagesbetreuungsangebot an 7 Tagen (siehe Kalender)\, daher entstehen hier Gebühren von 140.-€.
URL;VALUE=URI:https://www.unser-ferienprogramm.de/ganztag-fds/veranstaltung.php?id=304437
SUMMARY:Ganztagesbetreuung für Kinder der 1.Klasse in den Sommerferien 2027 - KW 30/31- 29.07.-06.08.27
DTSTART;TZID=Europe/Berlin:20270804T080000
END:VEVENT


BEGIN:VEVENT
DTEND;TZID=Europe/Berlin:20270805T160000
UID:69e8598a1df815
DTSTAMP:20260422T071554
LOCATION:F23 Jugend-Kultur-Kids
DESCRIPTION:Die Erstklässler haben ab Herbst 2026 eine Rechtsanspruch auf Ganztagesbetreuung und müssen daher prioritär behandelt werden. Sollte es noch verfügbare Plätze geben\, dann stehen diese jedoch auch für die Kinder der Klassen 2 bis 4 zur Verfügung.\r\n\r\nDer Gemeinderat der Stadt Freudenstadt hat die Gebühr für die Ganztagesbetreuung in den Ferien auf 20.-€ pro Tag festgesetzt. Dieser beinhaltet die Betreuung ihrer Kinder durch Personal des Kinder- und Jugendreferates zwischen 8 und 16 Uhr sowie ein Mittagessen. Während das Mittagessen im Preis enthalten ist\, bringen die Kinder für den Vor- und Nachmittag bitte eine individuell abgestimmte Verpflegung in Form einer Frühstücksbox mit Vesper\, Obst und Snacks mit.\r\n\r\nAus Gründen der Personalplanung muss die Anmeldung für die gewählten Betreuungsblöcke (siehe Kalender) für das Schuljahr 2026/2027 bis zum 31.03.26 hier auf der Plattform verbindlich abgeschlossen sein.\r\n\r\nNach der Bestätigung des Betreuungsplatzes für ihr Kind werden ihnen zunächst 30% der aus der Anmeldung resultierenden Gesamtsumme abgebucht. Die Restsumme wird je nach Anmeldung in zwei weiteren Schritten eingezogen.\r\nIn der KW 30/31 in den Sommerferien Weihnachtsferienferien gilt das Ganztagesbetreuungsangebot an 7 Tagen (siehe Kalender)\, daher entstehen hier Gebühren von 140.-€.
URL;VALUE=URI:https://www.unser-ferienprogramm.de/ganztag-fds/veranstaltung.php?id=304437
SUMMARY:Ganztagesbetreuung für Kinder der 1.Klasse in den Sommerferien 2027 - KW 30/31- 29.07.-06.08.27
DTSTART;TZID=Europe/Berlin:20270805T080000
END:VEVENT


BEGIN:VEVENT
DTEND;TZID=Europe/Berlin:20270806T160000
UID:69e8598a1df8f6
DTSTAMP:20260422T071554
LOCATION:F23 Jugend-Kultur-Kids
DESCRIPTION:Die Erstklässler haben ab Herbst 2026 eine Rechtsanspruch auf Ganztagesbetreuung und müssen daher prioritär behandelt werden. Sollte es noch verfügbare Plätze geben\, dann stehen diese jedoch auch für die Kinder der Klassen 2 bis 4 zur Verfügung.\r\n\r\nDer Gemeinderat der Stadt Freudenstadt hat die Gebühr für die Ganztagesbetreuung in den Ferien auf 20.-€ pro Tag festgesetzt. Dieser beinhaltet die Betreuung ihrer Kinder durch Personal des Kinder- und Jugendreferates zwischen 8 und 16 Uhr sowie ein Mittagessen. Während das Mittagessen im Preis enthalten ist\, bringen die Kinder für den Vor- und Nachmittag bitte eine individuell abgestimmte Verpflegung in Form einer Frühstücksbox mit Vesper\, Obst und Snacks mit.\r\n\r\nAus Gründen der Personalplanung muss die Anmeldung für die gewählten Betreuungsblöcke (siehe Kalender) für das Schuljahr 2026/2027 bis zum 31.03.26 hier auf der Plattform verbindlich abgeschlossen sein.\r\n\r\nNach der Bestätigung des Betreuungsplatzes für ihr Kind werden ihnen zunächst 30% der aus der Anmeldung resultierenden Gesamtsumme abgebucht. Die Restsumme wird je nach Anmeldung in zwei weiteren Schritten eingezogen.\r\nIn der KW 30/31 in den Sommerferien Weihnachtsferienferien gilt das Ganztagesbetreuungsangebot an 7 Tagen (siehe Kalender)\, daher entstehen hier Gebühren von 140.-€.
URL;VALUE=URI:https://www.unser-ferienprogramm.de/ganztag-fds/veranstaltung.php?id=304437
SUMMARY:Ganztagesbetreuung für Kinder der 1.Klasse in den Sommerferien 2027 - KW 30/31- 29.07.-06.08.27
DTSTART;TZID=Europe/Berlin:20270806T080000
END:VEVENT

END:VCALENDAR
