BEGIN:VCALENDAR
VERSION:2.0
PRODID:-//hacksw/handcal//NONSGML v1.0//EN
CALSCALE:GREGORIAN
BEGIN:VTIMEZONE
TZID:Europe/Berlin
X-LIC-LOCATION:Europe/Berlin
BEGIN:DAYLIGHT
TZOFFSETFROM:+0100
TZOFFSETTO:+0200
TZNAME:CEST
DTSTART:19700329T020000
RRULE:FREQ=YEARLY;BYDAY=-1SU;BYMONTH=3
END:DAYLIGHT
BEGIN:STANDARD
TZOFFSETFROM:+0200
TZOFFSETTO:+0100
TZNAME:CET
DTSTART:19701025T030000
RRULE:FREQ=YEARLY;BYDAY=-1SU;BYMONTH=10
END:STANDARD
END:VTIMEZONE
BEGIN:VEVENT
DTEND;TZID=Europe/Berlin:20261228T160000
UID:69e8598bbc266
DTSTAMP:20260422T071555
LOCATION:F23 Jugend-Kultur-Kids
DESCRIPTION:Die Erstklässler haben ab Herbst 2026 eine Rechtsanspruch auf Ganztagesbetreuung und müssen daher prioritär behandelt werden. Sollte es noch verfügbare Plätze geben\, dann stehen diese jedoch auch für die Kinder der Klassen 2 bis 4 zur Verfügung.\r\n\r\nDer Gemeinderat der Stadt Freudenstadt hat die Gebühr für die Ganztagesbetreuung in den Ferien auf 20.-€ pro Tag festgesetzt. Dieser beinhaltet die Betreuung ihrer Kinder durch Personal des Kinder- und Jugendreferates zwischen 8 und 16 Uhr sowie ein Mittagessen. Während das Mittagessen im Preis enthalten ist\, bringen die Kinder für den Vor- und Nachmittag bitte eine individuell abgestimmte Verpflegung in Form einer Frühstücksbox mit Vesper\, Obst und Snacks mit.\r\n\r\nAus Gründen der Personalplanung muss die Anmeldung für die gewählten Betreuungsblöcke (siehe Kalender) für das Schuljahr 2026/2027 für die 2. bis 4. Klässler bis zum 31.05.26 hier auf der Plattform verbindlich abgeschlossen sein.\r\n\r\nNach der Bestätigung des Betreuungsplatzes für ihr Kind werden ihnen zunächst 30% der aus der Anmeldung resultierenden Gesamtsumme abgebucht. Die Restsumme wird je nach Anmeldung in zwei weiteren Schritten eingezogen.\r\n\r\nIn den Weihnachtsferienferien gilt das Ganztagesbetreuungsangebot an 7 Tagen (siehe Kalender)\, daher entstehen hier Gebühren von 140.-€.
URL;VALUE=URI:https://www.unser-ferienprogramm.de/ganztag-fds/veranstaltung.php?id=304430
SUMMARY:Warteliste für Kinder der 2 bis 4 Klasse - Ganztagesbetreuung in den Weihnachtsferien
DTSTART;TZID=Europe/Berlin:20261228T080000
END:VEVENT


BEGIN:VEVENT
DTEND;TZID=Europe/Berlin:20261229T160000
UID:69e8598bbc2ba1
DTSTAMP:20260422T071555
LOCATION:F23 Jugend-Kultur-Kids
DESCRIPTION:Die Erstklässler haben ab Herbst 2026 eine Rechtsanspruch auf Ganztagesbetreuung und müssen daher prioritär behandelt werden. Sollte es noch verfügbare Plätze geben\, dann stehen diese jedoch auch für die Kinder der Klassen 2 bis 4 zur Verfügung.\r\n\r\nDer Gemeinderat der Stadt Freudenstadt hat die Gebühr für die Ganztagesbetreuung in den Ferien auf 20.-€ pro Tag festgesetzt. Dieser beinhaltet die Betreuung ihrer Kinder durch Personal des Kinder- und Jugendreferates zwischen 8 und 16 Uhr sowie ein Mittagessen. Während das Mittagessen im Preis enthalten ist\, bringen die Kinder für den Vor- und Nachmittag bitte eine individuell abgestimmte Verpflegung in Form einer Frühstücksbox mit Vesper\, Obst und Snacks mit.\r\n\r\nAus Gründen der Personalplanung muss die Anmeldung für die gewählten Betreuungsblöcke (siehe Kalender) für das Schuljahr 2026/2027 für die 2. bis 4. Klässler bis zum 31.05.26 hier auf der Plattform verbindlich abgeschlossen sein.\r\n\r\nNach der Bestätigung des Betreuungsplatzes für ihr Kind werden ihnen zunächst 30% der aus der Anmeldung resultierenden Gesamtsumme abgebucht. Die Restsumme wird je nach Anmeldung in zwei weiteren Schritten eingezogen.\r\n\r\nIn den Weihnachtsferienferien gilt das Ganztagesbetreuungsangebot an 7 Tagen (siehe Kalender)\, daher entstehen hier Gebühren von 140.-€.
URL;VALUE=URI:https://www.unser-ferienprogramm.de/ganztag-fds/veranstaltung.php?id=304430
SUMMARY:Warteliste für Kinder der 2 bis 4 Klasse - Ganztagesbetreuung in den Weihnachtsferien
DTSTART;TZID=Europe/Berlin:20261229T080000
END:VEVENT


BEGIN:VEVENT
DTEND;TZID=Europe/Berlin:20261230T160000
UID:69e8598bbc2cd2
DTSTAMP:20260422T071555
LOCATION:F23 Jugend-Kultur-Kids
DESCRIPTION:Die Erstklässler haben ab Herbst 2026 eine Rechtsanspruch auf Ganztagesbetreuung und müssen daher prioritär behandelt werden. Sollte es noch verfügbare Plätze geben\, dann stehen diese jedoch auch für die Kinder der Klassen 2 bis 4 zur Verfügung.\r\n\r\nDer Gemeinderat der Stadt Freudenstadt hat die Gebühr für die Ganztagesbetreuung in den Ferien auf 20.-€ pro Tag festgesetzt. Dieser beinhaltet die Betreuung ihrer Kinder durch Personal des Kinder- und Jugendreferates zwischen 8 und 16 Uhr sowie ein Mittagessen. Während das Mittagessen im Preis enthalten ist\, bringen die Kinder für den Vor- und Nachmittag bitte eine individuell abgestimmte Verpflegung in Form einer Frühstücksbox mit Vesper\, Obst und Snacks mit.\r\n\r\nAus Gründen der Personalplanung muss die Anmeldung für die gewählten Betreuungsblöcke (siehe Kalender) für das Schuljahr 2026/2027 für die 2. bis 4. Klässler bis zum 31.05.26 hier auf der Plattform verbindlich abgeschlossen sein.\r\n\r\nNach der Bestätigung des Betreuungsplatzes für ihr Kind werden ihnen zunächst 30% der aus der Anmeldung resultierenden Gesamtsumme abgebucht. Die Restsumme wird je nach Anmeldung in zwei weiteren Schritten eingezogen.\r\n\r\nIn den Weihnachtsferienferien gilt das Ganztagesbetreuungsangebot an 7 Tagen (siehe Kalender)\, daher entstehen hier Gebühren von 140.-€.
URL;VALUE=URI:https://www.unser-ferienprogramm.de/ganztag-fds/veranstaltung.php?id=304430
SUMMARY:Warteliste für Kinder der 2 bis 4 Klasse - Ganztagesbetreuung in den Weihnachtsferien
DTSTART;TZID=Europe/Berlin:20261230T080000
END:VEVENT


BEGIN:VEVENT
DTEND;TZID=Europe/Berlin:20270104T160000
UID:69e8598bbc2dd3
DTSTAMP:20260422T071555
LOCATION:F23 Jugend-Kultur-Kids
DESCRIPTION:Die Erstklässler haben ab Herbst 2026 eine Rechtsanspruch auf Ganztagesbetreuung und müssen daher prioritär behandelt werden. Sollte es noch verfügbare Plätze geben\, dann stehen diese jedoch auch für die Kinder der Klassen 2 bis 4 zur Verfügung.\r\n\r\nDer Gemeinderat der Stadt Freudenstadt hat die Gebühr für die Ganztagesbetreuung in den Ferien auf 20.-€ pro Tag festgesetzt. Dieser beinhaltet die Betreuung ihrer Kinder durch Personal des Kinder- und Jugendreferates zwischen 8 und 16 Uhr sowie ein Mittagessen. Während das Mittagessen im Preis enthalten ist\, bringen die Kinder für den Vor- und Nachmittag bitte eine individuell abgestimmte Verpflegung in Form einer Frühstücksbox mit Vesper\, Obst und Snacks mit.\r\n\r\nAus Gründen der Personalplanung muss die Anmeldung für die gewählten Betreuungsblöcke (siehe Kalender) für das Schuljahr 2026/2027 für die 2. bis 4. Klässler bis zum 31.05.26 hier auf der Plattform verbindlich abgeschlossen sein.\r\n\r\nNach der Bestätigung des Betreuungsplatzes für ihr Kind werden ihnen zunächst 30% der aus der Anmeldung resultierenden Gesamtsumme abgebucht. Die Restsumme wird je nach Anmeldung in zwei weiteren Schritten eingezogen.\r\n\r\nIn den Weihnachtsferienferien gilt das Ganztagesbetreuungsangebot an 7 Tagen (siehe Kalender)\, daher entstehen hier Gebühren von 140.-€.
URL;VALUE=URI:https://www.unser-ferienprogramm.de/ganztag-fds/veranstaltung.php?id=304430
SUMMARY:Warteliste für Kinder der 2 bis 4 Klasse - Ganztagesbetreuung in den Weihnachtsferien
DTSTART;TZID=Europe/Berlin:20270104T080000
END:VEVENT


BEGIN:VEVENT
DTEND;TZID=Europe/Berlin:20270105T160000
UID:69e8598bbc2eb4
DTSTAMP:20260422T071555
LOCATION:F23 Jugend-Kultur-Kids
DESCRIPTION:Die Erstklässler haben ab Herbst 2026 eine Rechtsanspruch auf Ganztagesbetreuung und müssen daher prioritär behandelt werden. Sollte es noch verfügbare Plätze geben\, dann stehen diese jedoch auch für die Kinder der Klassen 2 bis 4 zur Verfügung.\r\n\r\nDer Gemeinderat der Stadt Freudenstadt hat die Gebühr für die Ganztagesbetreuung in den Ferien auf 20.-€ pro Tag festgesetzt. Dieser beinhaltet die Betreuung ihrer Kinder durch Personal des Kinder- und Jugendreferates zwischen 8 und 16 Uhr sowie ein Mittagessen. Während das Mittagessen im Preis enthalten ist\, bringen die Kinder für den Vor- und Nachmittag bitte eine individuell abgestimmte Verpflegung in Form einer Frühstücksbox mit Vesper\, Obst und Snacks mit.\r\n\r\nAus Gründen der Personalplanung muss die Anmeldung für die gewählten Betreuungsblöcke (siehe Kalender) für das Schuljahr 2026/2027 für die 2. bis 4. Klässler bis zum 31.05.26 hier auf der Plattform verbindlich abgeschlossen sein.\r\n\r\nNach der Bestätigung des Betreuungsplatzes für ihr Kind werden ihnen zunächst 30% der aus der Anmeldung resultierenden Gesamtsumme abgebucht. Die Restsumme wird je nach Anmeldung in zwei weiteren Schritten eingezogen.\r\n\r\nIn den Weihnachtsferienferien gilt das Ganztagesbetreuungsangebot an 7 Tagen (siehe Kalender)\, daher entstehen hier Gebühren von 140.-€.
URL;VALUE=URI:https://www.unser-ferienprogramm.de/ganztag-fds/veranstaltung.php?id=304430
SUMMARY:Warteliste für Kinder der 2 bis 4 Klasse - Ganztagesbetreuung in den Weihnachtsferien
DTSTART;TZID=Europe/Berlin:20270105T080000
END:VEVENT


BEGIN:VEVENT
DTEND;TZID=Europe/Berlin:20270107T160000
UID:69e8598bbc2f95
DTSTAMP:20260422T071555
LOCATION:F23 Jugend-Kultur-Kids
DESCRIPTION:Die Erstklässler haben ab Herbst 2026 eine Rechtsanspruch auf Ganztagesbetreuung und müssen daher prioritär behandelt werden. Sollte es noch verfügbare Plätze geben\, dann stehen diese jedoch auch für die Kinder der Klassen 2 bis 4 zur Verfügung.\r\n\r\nDer Gemeinderat der Stadt Freudenstadt hat die Gebühr für die Ganztagesbetreuung in den Ferien auf 20.-€ pro Tag festgesetzt. Dieser beinhaltet die Betreuung ihrer Kinder durch Personal des Kinder- und Jugendreferates zwischen 8 und 16 Uhr sowie ein Mittagessen. Während das Mittagessen im Preis enthalten ist\, bringen die Kinder für den Vor- und Nachmittag bitte eine individuell abgestimmte Verpflegung in Form einer Frühstücksbox mit Vesper\, Obst und Snacks mit.\r\n\r\nAus Gründen der Personalplanung muss die Anmeldung für die gewählten Betreuungsblöcke (siehe Kalender) für das Schuljahr 2026/2027 für die 2. bis 4. Klässler bis zum 31.05.26 hier auf der Plattform verbindlich abgeschlossen sein.\r\n\r\nNach der Bestätigung des Betreuungsplatzes für ihr Kind werden ihnen zunächst 30% der aus der Anmeldung resultierenden Gesamtsumme abgebucht. Die Restsumme wird je nach Anmeldung in zwei weiteren Schritten eingezogen.\r\n\r\nIn den Weihnachtsferienferien gilt das Ganztagesbetreuungsangebot an 7 Tagen (siehe Kalender)\, daher entstehen hier Gebühren von 140.-€.
URL;VALUE=URI:https://www.unser-ferienprogramm.de/ganztag-fds/veranstaltung.php?id=304430
SUMMARY:Warteliste für Kinder der 2 bis 4 Klasse - Ganztagesbetreuung in den Weihnachtsferien
DTSTART;TZID=Europe/Berlin:20270107T080000
END:VEVENT


BEGIN:VEVENT
DTEND;TZID=Europe/Berlin:20270108T160000
UID:69e8598bbc3076
DTSTAMP:20260422T071555
LOCATION:F23 Jugend-Kultur-Kids
DESCRIPTION:Die Erstklässler haben ab Herbst 2026 eine Rechtsanspruch auf Ganztagesbetreuung und müssen daher prioritär behandelt werden. Sollte es noch verfügbare Plätze geben\, dann stehen diese jedoch auch für die Kinder der Klassen 2 bis 4 zur Verfügung.\r\n\r\nDer Gemeinderat der Stadt Freudenstadt hat die Gebühr für die Ganztagesbetreuung in den Ferien auf 20.-€ pro Tag festgesetzt. Dieser beinhaltet die Betreuung ihrer Kinder durch Personal des Kinder- und Jugendreferates zwischen 8 und 16 Uhr sowie ein Mittagessen. Während das Mittagessen im Preis enthalten ist\, bringen die Kinder für den Vor- und Nachmittag bitte eine individuell abgestimmte Verpflegung in Form einer Frühstücksbox mit Vesper\, Obst und Snacks mit.\r\n\r\nAus Gründen der Personalplanung muss die Anmeldung für die gewählten Betreuungsblöcke (siehe Kalender) für das Schuljahr 2026/2027 für die 2. bis 4. Klässler bis zum 31.05.26 hier auf der Plattform verbindlich abgeschlossen sein.\r\n\r\nNach der Bestätigung des Betreuungsplatzes für ihr Kind werden ihnen zunächst 30% der aus der Anmeldung resultierenden Gesamtsumme abgebucht. Die Restsumme wird je nach Anmeldung in zwei weiteren Schritten eingezogen.\r\n\r\nIn den Weihnachtsferienferien gilt das Ganztagesbetreuungsangebot an 7 Tagen (siehe Kalender)\, daher entstehen hier Gebühren von 140.-€.
URL;VALUE=URI:https://www.unser-ferienprogramm.de/ganztag-fds/veranstaltung.php?id=304430
SUMMARY:Warteliste für Kinder der 2 bis 4 Klasse - Ganztagesbetreuung in den Weihnachtsferien
DTSTART;TZID=Europe/Berlin:20270108T080000
END:VEVENT

END:VCALENDAR
