BEGIN:VCALENDAR
VERSION:2.0
PRODID:-//hacksw/handcal//NONSGML v1.0//EN
CALSCALE:GREGORIAN
BEGIN:VTIMEZONE
TZID:Europe/Berlin
X-LIC-LOCATION:Europe/Berlin
BEGIN:DAYLIGHT
TZOFFSETFROM:+0100
TZOFFSETTO:+0200
TZNAME:CEST
DTSTART:19700329T020000
RRULE:FREQ=YEARLY;BYDAY=-1SU;BYMONTH=3
END:DAYLIGHT
BEGIN:STANDARD
TZOFFSETFROM:+0200
TZOFFSETTO:+0100
TZNAME:CET
DTSTART:19701025T030000
RRULE:FREQ=YEARLY;BYDAY=-1SU;BYMONTH=10
END:STANDARD
END:VTIMEZONE
BEGIN:VEVENT
DTEND;TZID=Europe/Berlin:20260407T160000
UID:69e7946ed78cf
DTSTAMP:20260421T171454
LOCATION:Aicher Milchhäusl\, Dorfstraße 3\, 82256 Aich
DESCRIPTION:Herzlich Willkommen auf dem Bauernhof - viele Tiere warten auf euch. Kühe\, Kälber\, Hühner dürfen gestreichelt und gefüttert werden. Wie kommt die Milch aus der Kuh? Seid ihr schon einmal auf einem Traktor gesessen? Ihr werdet viele Tiere sehen\, schöne Dinge aus Stroh basteln und vieles mehr. Ein wunderschönes Abendteuer wartet auf euch.\r\nEssen und Trinken ist inklusive!
URL;VALUE=URI:https://www.unser-ferienprogramm.de/fuerstenfeldbruck/veranstaltung.php?id=306001
SUMMARY:Tiere\, Spaß und basteln auf dem Bauernhof
DTSTART;TZID=Europe/Berlin:20260407T090000
END:VEVENT

END:VCALENDAR
