BEGIN:VCALENDAR
VERSION:2.0
PRODID:-//hacksw/handcal//NONSGML v1.0//EN
CALSCALE:GREGORIAN
BEGIN:VTIMEZONE
TZID:Europe/Berlin
X-LIC-LOCATION:Europe/Berlin
BEGIN:DAYLIGHT
TZOFFSETFROM:+0100
TZOFFSETTO:+0200
TZNAME:CEST
DTSTART:19700329T020000
RRULE:FREQ=YEARLY;BYDAY=-1SU;BYMONTH=3
END:DAYLIGHT
BEGIN:STANDARD
TZOFFSETFROM:+0200
TZOFFSETTO:+0100
TZNAME:CET
DTSTART:19701025T030000
RRULE:FREQ=YEARLY;BYDAY=-1SU;BYMONTH=10
END:STANDARD
END:VTIMEZONE
BEGIN:VEVENT
DTEND;TZID=Europe/Berlin:20260401T114300
UID:69e798bd2aedc
DTSTAMP:20260421T173317
LOCATION:Bahnhof Buchenau am Bahnsteig
DESCRIPTION:Hierfür brauchen wir kreative Baumeister mit guten Ideen. Als Material für die Bahn mit Kurven\, Brücken\, Tunnel und mehr benutzen wir nur Fundstücke aus dem Wald. Äste\, Rinde\, Steine … fällt Dir noch mehr ein? Es bleibt spannend bis zum Schluß! Welche Kugel schafft es ins Ziel?
URL;VALUE=URI:https://www.unser-ferienprogramm.de/fuerstenfeldbruck/veranstaltung.php?id=305408
SUMMARY:Die total verrückte Kugelbahn
DTSTART;TZID=Europe/Berlin:20260401T082000
END:VEVENT

END:VCALENDAR
