BEGIN:VCALENDAR
VERSION:2.0
PRODID:-//hacksw/handcal//NONSGML v1.0//EN
CALSCALE:GREGORIAN
BEGIN:VTIMEZONE
TZID:Europe/Berlin
X-LIC-LOCATION:Europe/Berlin
BEGIN:DAYLIGHT
TZOFFSETFROM:+0100
TZOFFSETTO:+0200
TZNAME:CEST
DTSTART:19700329T020000
RRULE:FREQ=YEARLY;BYDAY=-1SU;BYMONTH=3
END:DAYLIGHT
BEGIN:STANDARD
TZOFFSETFROM:+0200
TZOFFSETTO:+0100
TZNAME:CET
DTSTART:19701025T030000
RRULE:FREQ=YEARLY;BYDAY=-1SU;BYMONTH=10
END:STANDARD
END:VTIMEZONE
BEGIN:VEVENT
DTEND;TZID=Europe/Berlin:20260401T120000
UID:69e7946cf2a72
DTSTAMP:20260421T171452
LOCATION:Parkplatz Graf-Rasso-Gymnasium
DESCRIPTION:Wenn der Wald zu quaken beginnt!\r\n\r\nDie Emmeringer Leite ist das Zuhause von vielen Frosch- und Krötenarten. Wo leben sie? Wohin laufen sie\, wenn sie verliebt sind und welchen Frosch sollte ich küssen\,\r\ndamit ein Prinz daraus wird?
URL;VALUE=URI:https://www.unser-ferienprogramm.de/fuerstenfeldbruck/veranstaltung.php?id=302730
SUMMARY:Wenn der Wald zu quaken beginnt!
DTSTART;TZID=Europe/Berlin:20260401T090000
END:VEVENT

END:VCALENDAR
