BEGIN:VCALENDAR
VERSION:2.0
PRODID:-//hacksw/handcal//NONSGML v1.0//EN
CALSCALE:GREGORIAN
BEGIN:VTIMEZONE
TZID:Europe/Berlin
X-LIC-LOCATION:Europe/Berlin
BEGIN:DAYLIGHT
TZOFFSETFROM:+0100
TZOFFSETTO:+0200
TZNAME:CEST
DTSTART:19700329T020000
RRULE:FREQ=YEARLY;BYDAY=-1SU;BYMONTH=3
END:DAYLIGHT
BEGIN:STANDARD
TZOFFSETFROM:+0200
TZOFFSETTO:+0100
TZNAME:CET
DTSTART:19701025T030000
RRULE:FREQ=YEARLY;BYDAY=-1SU;BYMONTH=10
END:STANDARD
END:VTIMEZONE
BEGIN:VEVENT
DTEND;TZID=Europe/Berlin:20260331T120000
UID:69e7946dc8699
DTSTAMP:20260421T171453
LOCATION:Parkplatz Graf-Rasso-Gymnasium
DESCRIPTION:„Mission Osterhase: Wir finden ihn!“\r\n\r\nWarum bringt uns eigentlich ein Hase Ostereier? Und welche grünen Kräuter haben die Menschen früher vor Ostern gegessen. Wir wollen uns im Wald auf die Suche nach versteckten Hasen machen und bereiten (zum Mitnehmen) einen leckeren Bärlauch-Essig zu.
URL;VALUE=URI:https://www.unser-ferienprogramm.de/fuerstenfeldbruck/veranstaltung.php?id=302722
SUMMARY:„Mission Osterhase: Wir finden ihn!“
DTSTART;TZID=Europe/Berlin:20260331T090000
END:VEVENT

END:VCALENDAR
