BEGIN:VCALENDAR
VERSION:2.0
PRODID:-//hacksw/handcal//NONSGML v1.0//EN
CALSCALE:GREGORIAN
BEGIN:VTIMEZONE
TZID:Europe/Berlin
X-LIC-LOCATION:Europe/Berlin
BEGIN:DAYLIGHT
TZOFFSETFROM:+0100
TZOFFSETTO:+0200
TZNAME:CEST
DTSTART:19700329T020000
RRULE:FREQ=YEARLY;BYDAY=-1SU;BYMONTH=3
END:DAYLIGHT
BEGIN:STANDARD
TZOFFSETFROM:+0200
TZOFFSETTO:+0100
TZNAME:CET
DTSTART:19701025T030000
RRULE:FREQ=YEARLY;BYDAY=-1SU;BYMONTH=10
END:STANDARD
END:VTIMEZONE
BEGIN:VEVENT
DTEND;TZID=Europe/Berlin:20260402T140000
UID:69e7988eb579c
DTSTAMP:20260421T173230
LOCATION:Unfaltstraße 2\, Anmeldebüro Volksfestplatz\, Fürstenfeldbruck
DESCRIPTION:Indoor -  Erlebnispark! Kommt mit nach Dasing zu Jimmy´s Fun Park. Dort erwartet euch eine Kletterlandschaft über mehrere Stockwerke\, eine Riesentorwand\, die Bongo-Bahn\, Megatrampoline\, der Spidertower\, der Fun-Scooter\, Donut-Glider und NEU: der Ninja Parkour. \r\n\r\nIm Preis inklusive sind Pommes und Getränke.\r\n
URL;VALUE=URI:https://www.unser-ferienprogramm.de/fuerstenfeldbruck/veranstaltung.php?id=302330
SUMMARY:Jimmy´s Funpark in Dasing (Bus)
DTSTART;TZID=Europe/Berlin:20260402T084500
END:VEVENT

END:VCALENDAR
