BEGIN:VCALENDAR
VERSION:2.0
PRODID:-//hacksw/handcal//NONSGML v1.0//EN
CALSCALE:GREGORIAN
BEGIN:VTIMEZONE
TZID:Europe/Berlin
X-LIC-LOCATION:Europe/Berlin
BEGIN:DAYLIGHT
TZOFFSETFROM:+0100
TZOFFSETTO:+0200
TZNAME:CEST
DTSTART:19700329T020000
RRULE:FREQ=YEARLY;BYDAY=-1SU;BYMONTH=3
END:DAYLIGHT
BEGIN:STANDARD
TZOFFSETFROM:+0200
TZOFFSETTO:+0100
TZNAME:CET
DTSTART:19701025T030000
RRULE:FREQ=YEARLY;BYDAY=-1SU;BYMONTH=10
END:STANDARD
END:VTIMEZONE
BEGIN:VEVENT
DTEND;TZID=Europe/Berlin:20260330T181500
UID:69e798bca31c1
DTSTAMP:20260421T173316
LOCATION:Bahnsteig Bahnhof Buchenau
DESCRIPTION:Trampolinhalle in Gröbenzell bei München.\r\n\r\nDie MAXX Arena ist die größte und imposanteste Trampolinhalle Münchens. Die Arena steht für Fun\, Fitness\, Vielfalt und Style. Ob Jung oder Alt\, Anfänger oder Profi\, es ist für jeden etwas dabei.\r\n\r\nIm Trampolinpark mit Ninja Parcours kannst Du Dich auf 90 verschiedenen Trampolinen und außergewöhnlichen Attraktionen wie z.B. Dodge Ball\, Airbag\, Airtrack und Battle Beam auspowern. Neu: Valo Jump – Springe als eigener Charakter in Deinem Videospiel. Das sorgt nicht nur für jede Menge Spaß\, sondern fördert auch die Balance\, Ausdauer und verbrennt ordentlich Kalorien.\r\nDer MAXXimale Sprungspaß.\r\n
URL;VALUE=URI:https://www.unser-ferienprogramm.de/fuerstenfeldbruck/veranstaltung.php?id=301967
SUMMARY:Trampolinpark MaxxArena (1)
DTSTART;TZID=Europe/Berlin:20260330T141500
END:VEVENT

END:VCALENDAR
