BEGIN:VCALENDAR
VERSION:2.0
PRODID:-//hacksw/handcal//NONSGML v1.0//EN
CALSCALE:GREGORIAN
BEGIN:VTIMEZONE
TZID:Europe/Berlin
X-LIC-LOCATION:Europe/Berlin
BEGIN:DAYLIGHT
TZOFFSETFROM:+0100
TZOFFSETTO:+0200
TZNAME:CEST
DTSTART:19700329T020000
RRULE:FREQ=YEARLY;BYDAY=-1SU;BYMONTH=3
END:DAYLIGHT
BEGIN:STANDARD
TZOFFSETFROM:+0200
TZOFFSETTO:+0100
TZNAME:CET
DTSTART:19701025T030000
RRULE:FREQ=YEARLY;BYDAY=-1SU;BYMONTH=10
END:STANDARD
END:VTIMEZONE
BEGIN:VEVENT
DTEND;TZID=Europe/Berlin:20260402T150000
UID:69e794819c2c1
DTSTAMP:20260421T171513
LOCATION:am Eingang\, Stadtteilzentrum West\, Am Sulzbogen 56\, 1 UG
DESCRIPTION:Zentangles zeichnen \r\n\r\nBeschreibung:\r\n \r\nWir zeichnen sich wiederholende Muster\, die dann wunderschöne kleine Bilder ergeben. Jeder kann es lernen\, ihr müsst nicht zeichnen können.\r\n\r\nBitte gute Fineliner (mindestens schwarz) der Stärken 0\,25-0\,5 mm mitbringen. \r\n\r\n
URL;VALUE=URI:https://www.unser-ferienprogramm.de/fuerstenfeldbruck/veranstaltung.php?id=301742
SUMMARY:Zentangles zeichnen  ( das ist eine Zeichnentechnik )
DTSTART;TZID=Europe/Berlin:20260402T130000
END:VEVENT

END:VCALENDAR
