BEGIN:VCALENDAR
VERSION:2.0
PRODID:-//hacksw/handcal//NONSGML v1.0//EN
CALSCALE:GREGORIAN
BEGIN:VTIMEZONE
TZID:Europe/Berlin
X-LIC-LOCATION:Europe/Berlin
BEGIN:DAYLIGHT
TZOFFSETFROM:+0100
TZOFFSETTO:+0200
TZNAME:CEST
DTSTART:19700329T020000
RRULE:FREQ=YEARLY;BYDAY=-1SU;BYMONTH=3
END:DAYLIGHT
BEGIN:STANDARD
TZOFFSETFROM:+0200
TZOFFSETTO:+0100
TZNAME:CET
DTSTART:19701025T030000
RRULE:FREQ=YEARLY;BYDAY=-1SU;BYMONTH=10
END:STANDARD
END:VTIMEZONE
BEGIN:VEVENT
DTEND;TZID=Europe/Berlin:20260402T123000
UID:69e79460afb53
DTSTAMP:20260421T171440
LOCATION:am Eingang\, Stadtteilzentrum West\, Am Sulzbogen 56\, 1 UG
DESCRIPTION:In diesem Kurs könnt Ihr tolle Mosaikobjekte nach Euren Ideen gestalten. Jeder gestaltet eine dünne Platte 15x15 cm mit Mosaikteilchen (Fliesen\, Steinchen\, Muscheln..) mit einem Motiv seiner Wahl wie z.B. Fisch\, Sonne\, Mustern oder kunterbunt nur nach deiner Fantasie. Diese Platte kannst du dann wie ein Bild aufhängen.\r\n
URL;VALUE=URI:https://www.unser-ferienprogramm.de/fuerstenfeldbruck/veranstaltung.php?id=301732
SUMMARY:Mosaikkurs ( Wir gestalten hübsche Bilder )
DTSTART;TZID=Europe/Berlin:20260402T093000
END:VEVENT

END:VCALENDAR
