BEGIN:VCALENDAR
VERSION:2.0
PRODID:-//hacksw/handcal//NONSGML v1.0//EN
CALSCALE:GREGORIAN
BEGIN:VTIMEZONE
TZID:Europe/Berlin
X-LIC-LOCATION:Europe/Berlin
BEGIN:DAYLIGHT
TZOFFSETFROM:+0100
TZOFFSETTO:+0200
TZNAME:CEST
DTSTART:19700329T020000
RRULE:FREQ=YEARLY;BYDAY=-1SU;BYMONTH=3
END:DAYLIGHT
BEGIN:STANDARD
TZOFFSETFROM:+0200
TZOFFSETTO:+0100
TZNAME:CET
DTSTART:19701025T030000
RRULE:FREQ=YEARLY;BYDAY=-1SU;BYMONTH=10
END:STANDARD
END:VTIMEZONE
BEGIN:VEVENT
DTEND;TZID=Europe/Berlin:20260407T162700
UID:69e79421ed0cb
DTSTAMP:20260421T171337
LOCATION:Bahnhof Buchenau am Bushalteplatz \, Bus X800 nach Dachau
DESCRIPTION:Das LaserTag-Abenteuer in München!\r\nLaserTag spielen in München bedeutet Action auf höchstem Niveau: In unserer Arena kannst du dich auf einem riesigen Spielfeld auspowern und mit anderen Spieler*innen batteln. Hier erwarten dich eine erstklassige Soundkulisse\, coole Lichteffekte und jede Menge Türme und Podeste.\r\n\r\n1.150 m² große LaserTag-Arena\r\n50 moderne Premium-LaserTag-Ausrüstungen\r\nLaserforce Gen 8 Infinity\r\n\r\nLasertag München fsk10
URL;VALUE=URI:https://www.unser-ferienprogramm.de/fuerstenfeldbruck/veranstaltung.php?id=301243
SUMMARY:LaserZone - Lasertag ( Abfahrtszeit beachten- wir fahren mit dem Bus )
DTSTART;TZID=Europe/Berlin:20260407T100000
END:VEVENT

END:VCALENDAR
