BEGIN:VCALENDAR
VERSION:2.0
PRODID:-//hacksw/handcal//NONSGML v1.0//EN
CALSCALE:GREGORIAN
BEGIN:VTIMEZONE
TZID:Europe/Berlin
X-LIC-LOCATION:Europe/Berlin
BEGIN:DAYLIGHT
TZOFFSETFROM:+0100
TZOFFSETTO:+0200
TZNAME:CEST
DTSTART:19700329T020000
RRULE:FREQ=YEARLY;BYDAY=-1SU;BYMONTH=3
END:DAYLIGHT
BEGIN:STANDARD
TZOFFSETFROM:+0200
TZOFFSETTO:+0100
TZNAME:CET
DTSTART:19701025T030000
RRULE:FREQ=YEARLY;BYDAY=-1SU;BYMONTH=10
END:STANDARD
END:VTIMEZONE
BEGIN:VEVENT
DTEND;TZID=Europe/Berlin:20260401T183100
UID:69e798834f31b
DTSTAMP:20260421T173219
LOCATION:Am Bahnsteig Bahnhof Buchenau 
DESCRIPTION:Die Weiten des Rutschenuniversums sind unendlich und versprechen jede Menge Spaß und Abenteuer für euch! Macht euch bereit für das Abenteuer\, holt euch das Gefühl von Freiheit und genießt grenzenlosen Wasserspaß in Europas größtem Rutschenparadies\, wenn ihr durch die galaktischen Hightech-Bahnen des GALAXY saust.
URL;VALUE=URI:https://www.unser-ferienprogramm.de/fuerstenfeldbruck/veranstaltung.php?id=300484
SUMMARY:Rutschenparadies in der Therme Erding ( Abfahrtszeit geändert )
DTSTART;TZID=Europe/Berlin:20260401T083500
END:VEVENT

END:VCALENDAR
