BEGIN:VCALENDAR
VERSION:2.0
PRODID:-//hacksw/handcal//NONSGML v1.0//EN
CALSCALE:GREGORIAN
BEGIN:VTIMEZONE
TZID:Europe/Berlin
X-LIC-LOCATION:Europe/Berlin
BEGIN:DAYLIGHT
TZOFFSETFROM:+0100
TZOFFSETTO:+0200
TZNAME:CEST
DTSTART:19700329T020000
RRULE:FREQ=YEARLY;BYDAY=-1SU;BYMONTH=3
END:DAYLIGHT
BEGIN:STANDARD
TZOFFSETFROM:+0200
TZOFFSETTO:+0100
TZNAME:CET
DTSTART:19701025T030000
RRULE:FREQ=YEARLY;BYDAY=-1SU;BYMONTH=10
END:STANDARD
END:VTIMEZONE
BEGIN:VEVENT
DTEND;TZID=Europe/Berlin:20260330T120000
UID:69e79890040b6
DTSTAMP:20260421T173232
LOCATION:Am Eingang\, LIB Mehrgenerationenhaus\, Stadtteilzentrum West\, Am Sulzbogen 56
DESCRIPTION:Für das Osterfest werden wir heute aus Styroporeiern und -kegeln Osterhasen basteln. \r\nWir bekleben die Styroporteile mit farbigem Papier\, formen die Ohren aus Chenilledraht\r\nund am Ende bekommt der Hase noch einen kleinen Stummelschwanz.\r\nWenn wir noch Zeit haben\, können wir Ostereier mit buntem Papier bekleben und mit Geschenkband zu Aufhängen anfertigen. \r\nSicherlich sind der Hase und die Ostereier eine schöne Osterdekoration.
URL;VALUE=URI:https://www.unser-ferienprogramm.de/fuerstenfeldbruck/veranstaltung.php?id=300477
SUMMARY:Lustige Osterhasen und bunte Ostereier gestalten mit Ulla
DTSTART;TZID=Europe/Berlin:20260330T093000
END:VEVENT

END:VCALENDAR
