BEGIN:VCALENDAR
VERSION:2.0
PRODID:-//hacksw/handcal//NONSGML v1.0//EN
CALSCALE:GREGORIAN
BEGIN:VTIMEZONE
TZID:Europe/Berlin
X-LIC-LOCATION:Europe/Berlin
BEGIN:DAYLIGHT
TZOFFSETFROM:+0100
TZOFFSETTO:+0200
TZNAME:CEST
DTSTART:19700329T020000
RRULE:FREQ=YEARLY;BYDAY=-1SU;BYMONTH=3
END:DAYLIGHT
BEGIN:STANDARD
TZOFFSETFROM:+0200
TZOFFSETTO:+0100
TZNAME:CET
DTSTART:19701025T030000
RRULE:FREQ=YEARLY;BYDAY=-1SU;BYMONTH=10
END:STANDARD
END:VTIMEZONE
BEGIN:VEVENT
DTEND;TZID=Europe/Berlin:20260330T153000
UID:69e798907efa6
DTSTAMP:20260421T173232
LOCATION:Lamaranch\, Weide Ende Rosenstraße\, 82216 Maisach
DESCRIPTION:Ihr dürft die Ziegen verwöhnen\, Lamas\, Puten und Fasane füttern und Ponys striegeln. Ihr lernt die Bedürfnisse der Tiere kennen und verbringt eine wunderschöne Zeit mit den Tieren.
URL;VALUE=URI:https://www.unser-ferienprogramm.de/fuerstenfeldbruck/veranstaltung.php?id=300355
SUMMARY:ABGESAGT!!! Lamas\, Ponys und Co auf der Lamaranch hautnah erleben (1)
DTSTART;TZID=Europe/Berlin:20260330T133000
END:VEVENT

END:VCALENDAR
