BEGIN:VCALENDAR
VERSION:2.0
PRODID:-//hacksw/handcal//NONSGML v1.0//EN
CALSCALE:GREGORIAN
BEGIN:VTIMEZONE
TZID:Europe/Berlin
X-LIC-LOCATION:Europe/Berlin
BEGIN:DAYLIGHT
TZOFFSETFROM:+0100
TZOFFSETTO:+0200
TZNAME:CEST
DTSTART:19700329T020000
RRULE:FREQ=YEARLY;BYDAY=-1SU;BYMONTH=3
END:DAYLIGHT
BEGIN:STANDARD
TZOFFSETFROM:+0200
TZOFFSETTO:+0100
TZNAME:CET
DTSTART:19701025T030000
RRULE:FREQ=YEARLY;BYDAY=-1SU;BYMONTH=10
END:STANDARD
END:VTIMEZONE
BEGIN:VEVENT
DTEND;TZID=Europe/Berlin:20260401T113000
UID:69e7941966ec0
DTSTAMP:20260421T171329
LOCATION:Keramikkunst & Farbenspiel\, Pollinger Straße 23\, 82205 Gilching
DESCRIPTION:Wir bemalen in der Keramikwerkstatt "Keramikkunst & Farbenspiel" einen Teller\, eine Tasse oder eine Müslischale. Mit Pinsel\, Schwamm und Tupfern entstehen wunderschöne bunte Geschirrteile\, von denen das Essen nochmal so gut schmeckt. Nach einer Woche können die Werke abgeholt werden.\r\n
URL;VALUE=URI:https://www.unser-ferienprogramm.de/fuerstenfeldbruck/veranstaltung.php?id=299352
SUMMARY:Keramikmalen Farbenspiel (1)
DTSTART;TZID=Europe/Berlin:20260401T093000
END:VEVENT

END:VCALENDAR
