BEGIN:VCALENDAR
VERSION:2.0
PRODID:-//hacksw/handcal//NONSGML v1.0//EN
CALSCALE:GREGORIAN
BEGIN:VTIMEZONE
TZID:Europe/Berlin
X-LIC-LOCATION:Europe/Berlin
BEGIN:DAYLIGHT
TZOFFSETFROM:+0100
TZOFFSETTO:+0200
TZNAME:CEST
DTSTART:19700329T020000
RRULE:FREQ=YEARLY;BYDAY=-1SU;BYMONTH=3
END:DAYLIGHT
BEGIN:STANDARD
TZOFFSETFROM:+0200
TZOFFSETTO:+0100
TZNAME:CET
DTSTART:19701025T030000
RRULE:FREQ=YEARLY;BYDAY=-1SU;BYMONTH=10
END:STANDARD
END:VTIMEZONE
BEGIN:VEVENT
DTEND;TZID=Europe/Berlin:20260822T150000
UID:69e7c500e9833
DTSTAMP:20260421T204208
LOCATION:Bundesanstalt Technisches Hilfswerk 
DESCRIPTION:Gemeinsam stark - mit Spaß\, Teamgeist und Technik spielend zum Helfer von morgen! \r\nOb Mädchen oder Junge - bei uns zählt Zusammenhalt\, Engagement und der Wille zum Helfen.\r\nLernt in verschiedenen Stationen unsere vielfältige Arbeit kennen. \r\nDu willst Technik? Du bekommst Technik!\r\n
URL;VALUE=URI:https://www.unser-ferienprogramm.de/friedberg/veranstaltung.php?id=273555
SUMMARY:Spielend helfen lernen - Erlebnistag beim THW - Ortsverband Friedberg
DTSTART;TZID=Europe/Berlin:20260822T100000
END:VEVENT

END:VCALENDAR
