BEGIN:VCALENDAR
VERSION:2.0
PRODID:-//hacksw/handcal//NONSGML v1.0//EN
CALSCALE:GREGORIAN
BEGIN:VTIMEZONE
TZID:Europe/Berlin
X-LIC-LOCATION:Europe/Berlin
BEGIN:DAYLIGHT
TZOFFSETFROM:+0100
TZOFFSETTO:+0200
TZNAME:CEST
DTSTART:19700329T020000
RRULE:FREQ=YEARLY;BYDAY=-1SU;BYMONTH=3
END:DAYLIGHT
BEGIN:STANDARD
TZOFFSETFROM:+0200
TZOFFSETTO:+0100
TZNAME:CET
DTSTART:19701025T030000
RRULE:FREQ=YEARLY;BYDAY=-1SU;BYMONTH=10
END:STANDARD
END:VTIMEZONE
BEGIN:VEVENT
DTEND;TZID=Europe/Berlin:20260813T180000
UID:69e7c51d1ab2f
DTSTAMP:20260421T204237
LOCATION:
DESCRIPTION:Wir machen Wanderungen in der Umgebung.\r\n\r\nJedes Kind sollte einen kleinen Tagesrucksack mit Trinkflasche und Kondition für Wanderungen zwischen 3 und 5 Stunden haben.\r\n\r\nWer ausgelost wurde\, muss an einem Dienstag\, spätestens den 28.07.2025\, zwischen 19:30 Uhr und 20:30 Uhr in die Geschäftsstelle (Schmiedgasse 1) kommen.\r\nEs wird dann eine Bestätigung ausgestellt\, dass die Schuhe geeignet sind.\r\n\r\nFür Kinder\, die bis dahin nicht kommen und keine geeigneten Schuhe nachweisen können\, rückt ein anderes Kind auf der Warteliste nach.\r\n
URL;VALUE=URI:https://www.unser-ferienprogramm.de/friedberg/veranstaltung.php?id=164305
SUMMARY:3-Tages-Fahrt zur Willi-Merkl-Hütte mit dem Deutschen Alpenverein Friedberg 
DTSTART;TZID=Europe/Berlin:20260811T080000
END:VEVENT

END:VCALENDAR
