BEGIN:VCALENDAR
VERSION:2.0
PRODID:-//hacksw/handcal//NONSGML v1.0//EN
CALSCALE:GREGORIAN
BEGIN:VTIMEZONE
TZID:Europe/Berlin
X-LIC-LOCATION:Europe/Berlin
BEGIN:DAYLIGHT
TZOFFSETFROM:+0100
TZOFFSETTO:+0200
TZNAME:CEST
DTSTART:19700329T020000
RRULE:FREQ=YEARLY;BYDAY=-1SU;BYMONTH=3
END:DAYLIGHT
BEGIN:STANDARD
TZOFFSETFROM:+0200
TZOFFSETTO:+0100
TZNAME:CET
DTSTART:19701025T030000
RRULE:FREQ=YEARLY;BYDAY=-1SU;BYMONTH=10
END:STANDARD
END:VTIMEZONE
BEGIN:VEVENT
DTEND;TZID=Europe/Berlin:20260902T123000
UID:69e7c4792fd34
DTSTAMP:20260421T203953
LOCATION:Tennisclub Friedberg
DESCRIPTION:An 3 Vormittagen könnt ihr schnuppern\, ob euch Tennis Spaß macht.\r\nBei Regen finden die Kurse in unserer Tennishalle statt.\r\nJeweils Montag bis Mittwoch von 9:30-12:30 Uhr. \r\n
URL;VALUE=URI:https://www.unser-ferienprogramm.de/friedberg/veranstaltung.php?id=154702
SUMMARY:Tennis
DTSTART;TZID=Europe/Berlin:20260831T093000
END:VEVENT

END:VCALENDAR
