BEGIN:VCALENDAR
VERSION:2.0
PRODID:-//hacksw/handcal//NONSGML v1.0//EN
CALSCALE:GREGORIAN
BEGIN:VTIMEZONE
TZID:Europe/Berlin
X-LIC-LOCATION:Europe/Berlin
BEGIN:DAYLIGHT
TZOFFSETFROM:+0100
TZOFFSETTO:+0200
TZNAME:CEST
DTSTART:19700329T020000
RRULE:FREQ=YEARLY;BYDAY=-1SU;BYMONTH=3
END:DAYLIGHT
BEGIN:STANDARD
TZOFFSETFROM:+0200
TZOFFSETTO:+0100
TZNAME:CET
DTSTART:19701025T030000
RRULE:FREQ=YEARLY;BYDAY=-1SU;BYMONTH=10
END:STANDARD
END:VTIMEZONE
BEGIN:VEVENT
DTEND;TZID=Europe/Berlin:20260411T130000
UID:69eb7b1dc8779
DTSTAMP:20260424T161557
LOCATION:Auggenerweg 10\, 79114 Freiburg
DESCRIPTION:Sportschießen für Jugendliche - hier erwartet Euch ein toller und spannender Tag rund um den Schießsport. Dabei bekommen alle Teilnehmer*innen eine ausführliche Einweisung in die sichere Handhabung mit dem Luftgewehr. Nach ein paar Trockenübungen rund um Zielerfassung und Atemtechnik geht es dann los\, dann heißt es 'Gut Schuss'. Es wird auf vollelektronische Zielscheiben geschossen mit hochmodernen Hochleistungs-Luftgewehren. Das Ergebnis kann im Anschluss ausgedruckt werden. Das Ganze findet auf dem Gelände des SSV Freiburg Haslach statt\, wo sich die Schießanlage und die Gaststätte befinden.
URL;VALUE=URI:https://www.unser-ferienprogramm.de/freiburgerferien/veranstaltung.php?id=307575
SUMMARY:Sportschießen für Jugendliche
DTSTART;TZID=Europe/Berlin:20260411T100000
END:VEVENT

END:VCALENDAR
