BEGIN:VCALENDAR
VERSION:2.0
PRODID:-//hacksw/handcal//NONSGML v1.0//EN
CALSCALE:GREGORIAN
BEGIN:VTIMEZONE
TZID:Europe/Berlin
X-LIC-LOCATION:Europe/Berlin
BEGIN:DAYLIGHT
TZOFFSETFROM:+0100
TZOFFSETTO:+0200
TZNAME:CEST
DTSTART:19700329T020000
RRULE:FREQ=YEARLY;BYDAY=-1SU;BYMONTH=3
END:DAYLIGHT
BEGIN:STANDARD
TZOFFSETFROM:+0200
TZOFFSETTO:+0100
TZNAME:CET
DTSTART:19701025T030000
RRULE:FREQ=YEARLY;BYDAY=-1SU;BYMONTH=10
END:STANDARD
END:VTIMEZONE
BEGIN:VEVENT
DTEND;TZID=Europe/Berlin:20260703T160000
UID:69e73f5f09755
DTSTAMP:20260421T111159
LOCATION:Kinderhaus Griesheim
DESCRIPTION:Komm zur Lötstation 2.0 und werde kreativ! Mit Lötkolben\, bunten Lichtern und viel Spaß baust du mit dem Team von Digitale Welten deine eigene leuchtende Figur. Ob blinkende Tiere\, Raketen oder Einhörner – hier kannst du alles unter Strom setzen! In diesem Workshop lernst du\, wie Stromkreise funktionieren\, und baust in drei Schwierigkeitsstufen deine eigenen Lötkarten: von einfachen Figuren bis zu blinkenden Kunstwerken wie Axolotls. Und wer noch nicht genug hat\, kann gleich die nächste Herausforderung annehmen! Melde dich also an\, lerne Löten und nimm dein leuchtendes Meisterwerk mit nach Hause.
URL;VALUE=URI:https://www.unser-ferienprogramm.de/frankfurt/veranstaltung.php?id=297590
SUMMARY:Lötstation 2.0 mit Digitale Welten
DTSTART;TZID=Europe/Berlin:20260703T120000
END:VEVENT

END:VCALENDAR
