BEGIN:VCALENDAR
VERSION:2.0
PRODID:-//hacksw/handcal//NONSGML v1.0//EN
CALSCALE:GREGORIAN
BEGIN:VTIMEZONE
TZID:Europe/Berlin
X-LIC-LOCATION:Europe/Berlin
BEGIN:DAYLIGHT
TZOFFSETFROM:+0100
TZOFFSETTO:+0200
TZNAME:CEST
DTSTART:19700329T020000
RRULE:FREQ=YEARLY;BYDAY=-1SU;BYMONTH=3
END:DAYLIGHT
BEGIN:STANDARD
TZOFFSETFROM:+0200
TZOFFSETTO:+0100
TZNAME:CET
DTSTART:19701025T030000
RRULE:FREQ=YEARLY;BYDAY=-1SU;BYMONTH=10
END:STANDARD
END:VTIMEZONE
BEGIN:VEVENT
DTEND;TZID=Europe/Berlin:20250905T193000
UID:69e66613777f5
DTSTAMP:20260420T194451
LOCATION:Sporthalle Fahrenkrug
DESCRIPTION:Tischtennis ist eine Sportart\, die von Jung bis Alt auf der ganzen Welt begeistert gespielt wird. Schnelligkeit sowie Technik sind nur zwei Begriffe\, welche diese Sportart umschreiben. Hast du Lust mehr zu erfahren? Dann komm vorbei und mache mit! Wir wollen Spiel und Spaß rund um das Thema Tischtennis erleben und freuen uns auf dich....
URL;VALUE=URI:https://www.unser-ferienprogramm.de/fahrenkrug/veranstaltung.php?id=98968
SUMMARY:Tischtennis für ALLE
DTSTART;TZID=Europe/Berlin:20250905T180000
END:VEVENT

END:VCALENDAR
