BEGIN:VCALENDAR
VERSION:2.0
PRODID:-//hacksw/handcal//NONSGML v1.0//EN
CALSCALE:GREGORIAN
BEGIN:VTIMEZONE
TZID:Europe/Berlin
X-LIC-LOCATION:Europe/Berlin
BEGIN:DAYLIGHT
TZOFFSETFROM:+0100
TZOFFSETTO:+0200
TZNAME:CEST
DTSTART:19700329T020000
RRULE:FREQ=YEARLY;BYDAY=-1SU;BYMONTH=3
END:DAYLIGHT
BEGIN:STANDARD
TZOFFSETFROM:+0200
TZOFFSETTO:+0100
TZNAME:CET
DTSTART:19701025T030000
RRULE:FREQ=YEARLY;BYDAY=-1SU;BYMONTH=10
END:STANDARD
END:VTIMEZONE
BEGIN:VEVENT
DTEND;TZID=Europe/Berlin:20250819T193000
UID:69e66792d9d34
DTSTAMP:20260420T195114
LOCATION:Wasserskilift Süsel
DESCRIPTION:Ein bisschen Fun beim Wasserski in Süsel. Verpflegung für ein Picknickbüffet\, Sonnenschutz und Wechselkleidung ist mitzubringen. Außerdem 20cent Stücke für die warme Dusche danach :-)\r\n\r\nWir treffen uns am Dienstag um 14:30 Uhr am Sportplatz in Fahrenkrug. Bitte wenn nötig Autositz mitgeben. Da wir noch nicht genügend Fahrer haben\, würde ich mich freuen\, wenn Ihr noch Zeit habt\, einige Kids mit nach Süsel zu begleiten! Bitte melden unter martina.magnussen@gmail.com. Die Kids werden abends nach Hause gefahren. Ende ca. 19.30 Uhr. 
URL;VALUE=URI:https://www.unser-ferienprogramm.de/fahrenkrug/veranstaltung.php?id=61122
SUMMARY:Wasserski-Spaß in Süsel
DTSTART;TZID=Europe/Berlin:20250819T143000
END:VEVENT

END:VCALENDAR
