BEGIN:VCALENDAR
VERSION:2.0
PRODID:-//hacksw/handcal//NONSGML v1.0//EN
CALSCALE:GREGORIAN
BEGIN:VTIMEZONE
TZID:Europe/Berlin
X-LIC-LOCATION:Europe/Berlin
BEGIN:DAYLIGHT
TZOFFSETFROM:+0100
TZOFFSETTO:+0200
TZNAME:CEST
DTSTART:19700329T020000
RRULE:FREQ=YEARLY;BYDAY=-1SU;BYMONTH=3
END:DAYLIGHT
BEGIN:STANDARD
TZOFFSETFROM:+0200
TZOFFSETTO:+0100
TZNAME:CET
DTSTART:19701025T030000
RRULE:FREQ=YEARLY;BYDAY=-1SU;BYMONTH=10
END:STANDARD
END:VTIMEZONE
BEGIN:VEVENT
DTEND;TZID=Europe/Berlin:20250904T173000
UID:69e66625e90e0
DTSTAMP:20260420T194509
LOCATION:Sporthalle Fahrenkrug
DESCRIPTION:Schnupperhandball der HSG Kalkberg 06 zum Ausprobieren und Kennenlernen. Spiel und Spaß rund um den Handball für Kids von 7-12 Jahren. Kommt vorbei und macht mit. 
URL;VALUE=URI:https://www.unser-ferienprogramm.de/fahrenkrug/veranstaltung.php?id=61111
SUMMARY:Rund um den Handball
DTSTART;TZID=Europe/Berlin:20250904T160000
END:VEVENT

END:VCALENDAR
