BEGIN:VCALENDAR
VERSION:2.0
PRODID:-//hacksw/handcal//NONSGML v1.0//EN
CALSCALE:GREGORIAN
BEGIN:VTIMEZONE
TZID:Europe/Berlin
X-LIC-LOCATION:Europe/Berlin
BEGIN:DAYLIGHT
TZOFFSETFROM:+0100
TZOFFSETTO:+0200
TZNAME:CEST
DTSTART:19700329T020000
RRULE:FREQ=YEARLY;BYDAY=-1SU;BYMONTH=3
END:DAYLIGHT
BEGIN:STANDARD
TZOFFSETFROM:+0200
TZOFFSETTO:+0100
TZNAME:CET
DTSTART:19701025T030000
RRULE:FREQ=YEARLY;BYDAY=-1SU;BYMONTH=10
END:STANDARD
END:VTIMEZONE
BEGIN:VEVENT
DTEND;TZID=Europe/Berlin:20250804T110000
UID:69e69fffe0fee
DTSTAMP:20260420T235159
LOCATION:Am Wasserwerk 4\, 23795 Bad Segeberg
DESCRIPTION:Müll trennen leicht gemacht!\r\nWas passiert eigentlich mit unserem Müll ? Und wie trennt man ihn richtig? Das finden wir gemeinsam beim Besuch des WZV heraus. Nach einem leckeren gemeinsamen Frühstück schauen wir uns genau an\, was übrig bleibt und wie wir es richtig entsorgen. Danach geht's auf den Recyclinghof. Dort entdecken wir\, welche Müllarten es gibt und wie Dinge sortiert\, wiederverwendet oder entsorgt werden. Eine spannende Aktion\, bei der du lernen kannst\, wie du unsere Umwelt mit kleinen Taten schützen kannst. 
URL;VALUE=URI:https://www.unser-ferienprogramm.de/fahrenkrug/veranstaltung.php?id=285962
SUMMARY:Erkundungstour beim WZV
DTSTART;TZID=Europe/Berlin:20250804T090000
END:VEVENT

END:VCALENDAR
