BEGIN:VCALENDAR
VERSION:2.0
PRODID:-//hacksw/handcal//NONSGML v1.0//EN
CALSCALE:GREGORIAN
BEGIN:VTIMEZONE
TZID:Europe/Berlin
X-LIC-LOCATION:Europe/Berlin
BEGIN:DAYLIGHT
TZOFFSETFROM:+0100
TZOFFSETTO:+0200
TZNAME:CEST
DTSTART:19700329T020000
RRULE:FREQ=YEARLY;BYDAY=-1SU;BYMONTH=3
END:DAYLIGHT
BEGIN:STANDARD
TZOFFSETFROM:+0200
TZOFFSETTO:+0100
TZNAME:CET
DTSTART:19701025T030000
RRULE:FREQ=YEARLY;BYDAY=-1SU;BYMONTH=10
END:STANDARD
END:VTIMEZONE
BEGIN:VEVENT
DTEND;TZID=Europe/Berlin:20250806T160000
UID:69e667822b41d
DTSTAMP:20260420T195058
LOCATION:Landwirtschaft Koloniehof: Taubenholzweg 4\, 24635 Rickling
DESCRIPTION:Ein Tag auf dem Bauernhof. Mitmachen\, Entdecken und Genießen. \r\nBei unserem Besuch auf dem Bauernhof lernst du das Leben mit Tieren und auf dem Feld hautnah kennen. Du erfährst\, wie der Alltag auf einem Hof aussieht-vom Stall bis zum Traktor. Nach der spannenden Hofführung und dem Melken\, machen wir es uns auf dem Heuboden gemütlich und genießen gemeinsam ein Picknick.
URL;VALUE=URI:https://www.unser-ferienprogramm.de/fahrenkrug/veranstaltung.php?id=285959
SUMMARY:Entdecke das Landleben auf dem Koloniehof
DTSTART;TZID=Europe/Berlin:20250806T131500
END:VEVENT

END:VCALENDAR
