BEGIN:VCALENDAR
VERSION:2.0
PRODID:-//hacksw/handcal//NONSGML v1.0//EN
CALSCALE:GREGORIAN
BEGIN:VTIMEZONE
TZID:Europe/Berlin
X-LIC-LOCATION:Europe/Berlin
BEGIN:DAYLIGHT
TZOFFSETFROM:+0100
TZOFFSETTO:+0200
TZNAME:CEST
DTSTART:19700329T020000
RRULE:FREQ=YEARLY;BYDAY=-1SU;BYMONTH=3
END:DAYLIGHT
BEGIN:STANDARD
TZOFFSETFROM:+0200
TZOFFSETTO:+0100
TZNAME:CET
DTSTART:19701025T030000
RRULE:FREQ=YEARLY;BYDAY=-1SU;BYMONTH=10
END:STANDARD
END:VTIMEZONE
BEGIN:VEVENT
DTEND;TZID=Europe/Berlin:20250730T113000
UID:69e667452dc2e
DTSTAMP:20260420T194957
LOCATION:Daldorfer Str.2  24635 Rickling
DESCRIPTION:Ein Vormittag in der Bäckerei\r\nDu wolltest schon immer wissen\, wie frisches Brot\, duftende Brötchen und \r\nsüße Leckereien entstehen ? Dann schnupper mit uns gemeinsam Bäckerluft. In der Backstube bekommst du einen Einblick in den Alltag eines Bäckers und darfst selbst mit anpacken. Freu dich auf einen kreativen und leckeren Vormittag in der Bäckerei ! \r\n\r\n\r\n\r\n
URL;VALUE=URI:https://www.unser-ferienprogramm.de/fahrenkrug/veranstaltung.php?id=285958
SUMMARY:Backen wie die Profis beim Landesverein Rickling
DTSTART;TZID=Europe/Berlin:20250730T090000
END:VEVENT

END:VCALENDAR
