BEGIN:VCALENDAR
VERSION:2.0
PRODID:-//hacksw/handcal//NONSGML v1.0//EN
CALSCALE:GREGORIAN
BEGIN:VTIMEZONE
TZID:Europe/Berlin
X-LIC-LOCATION:Europe/Berlin
BEGIN:DAYLIGHT
TZOFFSETFROM:+0100
TZOFFSETTO:+0200
TZNAME:CEST
DTSTART:19700329T020000
RRULE:FREQ=YEARLY;BYDAY=-1SU;BYMONTH=3
END:DAYLIGHT
BEGIN:STANDARD
TZOFFSETFROM:+0200
TZOFFSETTO:+0100
TZNAME:CET
DTSTART:19701025T030000
RRULE:FREQ=YEARLY;BYDAY=-1SU;BYMONTH=10
END:STANDARD
END:VTIMEZONE
BEGIN:VEVENT
DTEND;TZID=Europe/Berlin:20250901T160000
UID:69e6668e8b8c5
DTSTAMP:20260420T194654
LOCATION:Wahlstedt
DESCRIPTION:Schnupperkurs für Anfänger in Kooperation mit dem TC Rot-Weiß Wahlstedt und Tennis Wahlstedt\r\n\r\nDu hast Lust\, eine neue Sportart auszuprobieren? Dann komm vorbei!\r\nDas Kennenlernen von Tennisgrundlagen\, verschiedene Spiele auf dem Tennisplatz und jede Menge Spaß stehen in den 120 Minuten auf dem Programm.\r\n\r\nWir freuen uns auf Dich!\r\n\r\n\r\n
URL;VALUE=URI:https://www.unser-ferienprogramm.de/fahrenkrug/veranstaltung.php?id=283069
SUMMARY:Tennis für die Kleinen
DTSTART;TZID=Europe/Berlin:20250901T140000
END:VEVENT

END:VCALENDAR
