BEGIN:VCALENDAR
VERSION:2.0
PRODID:-//hacksw/handcal//NONSGML v1.0//EN
CALSCALE:GREGORIAN
BEGIN:VTIMEZONE
TZID:Europe/Berlin
X-LIC-LOCATION:Europe/Berlin
BEGIN:DAYLIGHT
TZOFFSETFROM:+0100
TZOFFSETTO:+0200
TZNAME:CEST
DTSTART:19700329T020000
RRULE:FREQ=YEARLY;BYDAY=-1SU;BYMONTH=3
END:DAYLIGHT
BEGIN:STANDARD
TZOFFSETFROM:+0200
TZOFFSETTO:+0100
TZNAME:CET
DTSTART:19701025T030000
RRULE:FREQ=YEARLY;BYDAY=-1SU;BYMONTH=10
END:STANDARD
END:VTIMEZONE
BEGIN:VEVENT
DTEND;TZID=Europe/Berlin:20250903T180000
UID:69e666c6ba625
DTSTAMP:20260420T194750
LOCATION:Fahrenkrug
DESCRIPTION:Taekwon-Do zum Schnuppern mit Conny und Howy \r\n\r\nTraditionelles Teakwon-Do heißt: waffenloser Selbstverteidigungssport aus Korea!\r\nDas traditionelle Teakwon-Do ist völlig kontaktfrei und damit für jedes Alter bestens geeignet.\r\nTrainiert wird die Beweglichkeit\, Koordination\, Balance und Körperbeherrschung - ein Ausgleich für Körper und Geist!
URL;VALUE=URI:https://www.unser-ferienprogramm.de/fahrenkrug/veranstaltung.php?id=283032
SUMMARY:Taekwondo für die Großen
DTSTART;TZID=Europe/Berlin:20250903T170000
END:VEVENT

END:VCALENDAR
